BEGIN:VCALENDAR
VERSION:2.0
PRODID:-//ChamberMaster//Event Calendar 2.0//EN
METHOD:PUBLISH
X-PUBLISHED-TTL:P3D
REFRESH-INTERVAL:P3D
CALSCALE:GREGORIAN
BEGIN:VEVENT
DTSTART:20180810T183000Z
DTEND:20180810T193000Z
X-MICROSOFT-CDO-ALLDAYEVENT:FALSE
SUMMARY:Ribbon Cutting for Rock-N-Roll Sushi
DESCRIPTION:Join The Chamber for a Ribbon Cutting at Rock-N-Roll Sushi in Downtown Gadsden! Come meet the owners Kris Roberts and Charity Perez!  Stop in to see their recently opened restaurant and try samples from the menu as well. Check them out online at Rock-N-Roll Sushi before the ribbon cutting!
X-ALT-DESC;FMTTYPE=text/html:<span style="font-size:16px\;"><span style="font-family:arial\;">Join The Chamber for a Ribbon Cutting at Rock-N-Roll Sushi in Downtown Gadsden! Come meet the owners Kris Roberts and Charity Perez</span></span><span style="font-size:16px\;"><span style="font-family:arial\;">!&nbsp\; Stop in to see their recently opened restaurant and try samples from the menu as well. Check them out online at<font color="#0000ff">&nbsp\;</font><a href="https://www.facebook.com/gadrocknrollsushi/"><span style="color:#0000FF\;"><b>Rock-N-Roll Sushi</b></span></a><font color="#0000ff">&nbsp\;</font>before the ribbon cutting!</span></span>
LOCATION:Rock-N-Roll Sushi- Gadsden 504 Broad Street Gadsden\, AL 35901
UID:e.1432.397972
SEQUENCE:3
DTSTAMP:20260421T134916Z
URL:http://business.etowahchamber.org/events/details/ribbon-cutting-for-rock-n-roll-sushi-397972
END:VEVENT

END:VCALENDAR
