BEGIN:VCALENDAR
VERSION:2.0
PRODID:-//ChamberMaster//Event Calendar 2.0//EN
METHOD:PUBLISH
X-PUBLISHED-TTL:P3D
REFRESH-INTERVAL:P3D
CALSCALE:GREGORIAN
BEGIN:VEVENT
DTSTART:20180829T160000Z
DTEND:20180829T170000Z
X-MICROSOFT-CDO-ALLDAYEVENT:FALSE
SUMMARY:Ribbon Cutting for Southeastern Equipment Rentals
DESCRIPTION:Join The Chamber for a Ribbon Cutting at Southeastern Equipment Rentals! Come by to see their new store in Gadsden where their goal is to provide new\, clean equipment at the best price available to homeowners and contractors while providing fast & friendly customer service. Visit them on Facebook at Southeastern Equipment Rentals before the event!
X-ALT-DESC;FMTTYPE=text/html:<span style="font-size:16px\;"><span style="font-family:arial\;">Join The Chamber for a Ribbon Cutting at Southeastern Equipment Rentals! Come by to see their new store in Gadsden where their goal is to provide new\, clean equipment at the best price available to homeowners and contractors while providing fast &amp\; friendly customer service. Visit them on Facebook at <a href="https://www.facebook.com/SEequipmentrentals/"><strong><span style="color:#0000FF\;">Southeastern Equipment Rentals</span></strong></a>&nbsp\;before the event!</span></span>
LOCATION:Southeastern Equipment Rentals 802 West Meighan Boulevard Gadsden\, AL 35901
UID:e.1432.398032
SEQUENCE:3
DTSTAMP:20260421T135044Z
URL:http://business.etowahchamber.org/events/details/ribbon-cutting-for-southeastern-equipment-rentals-398032
END:VEVENT

END:VCALENDAR
