BEGIN:VCALENDAR
VERSION:2.0
PRODID:-//ChamberMaster//Event Calendar 2.0//EN
METHOD:PUBLISH
X-PUBLISHED-TTL:P3D
REFRESH-INTERVAL:P3D
CALSCALE:GREGORIAN
BEGIN:VEVENT
DTSTART:20180724T223000Z
DTEND:20180724T233000Z
X-MICROSOFT-CDO-ALLDAYEVENT:FALSE
SUMMARY:Ribbon Cutting for Southern Periodontics
DESCRIPTION:Join The Chamber for a Ribbon Cutting at Southern Periodontics! Come see the recently opened periodontology clinic in Downtown Gadsden and meet Dr. Coty Hulgan\, DMD\, MPH along with his staff! Enjoy hors d'oeuvres and refreshments following the ribbon cutting. Check them out online at Southern Periodontics before the ribbon cutting!
X-ALT-DESC;FMTTYPE=text/html:<span style="font-size:16px\;"><span style="font-family:arial\;">Join The Chamber for a Ribbon Cutting at Southern Periodontics! Come see the recently opened periodontology clinic in Downtown Gadsden and meet Dr. Coty Hulgan\, DMD\, MPH along with his staff! Enjoy hors d&#39\;oeuvres and refreshments following the ribbon cutting.</span></span><span style="font-size:16px\;"><span style="font-family:arial\;">&nbsp\;Check them out online at<font color="#0000ff">&nbsp\;</font><b><a href="https://www.facebook.com/southernperio/"><span style="color:#0000FF\;">Southern Periodontics</span></a></b><span style="color:#0000FF\;"><b>&nbsp\;</b></span>before the ribbon cutting!</span></span>
LOCATION:Southern Periodontics 427 South 4th Street Gadsden\, AL 35901
UID:e.1432.397874
SEQUENCE:3
DTSTAMP:20260421T122934Z
URL:http://business.etowahchamber.org/events/details/ribbon-cutting-for-southern-periodontics-397874
END:VEVENT

END:VCALENDAR
