BEGIN:VCALENDAR
VERSION:2.0
PRODID:-//ChamberMaster//Event Calendar 2.0//EN
METHOD:PUBLISH
X-PUBLISHED-TTL:P3D
REFRESH-INTERVAL:P3D
CALSCALE:GREGORIAN
BEGIN:VEVENT
DTSTART:20181010T170000Z
DTEND:20181010T180000Z
X-MICROSOFT-CDO-ALLDAYEVENT:FALSE
SUMMARY:Ribbon Cutting for State Farm Insurance- Liz Brumbelow
DESCRIPTION:Join The Chamber for a Ribbon Cutting at State Farm Insurance- Liz Brumbelow! Come see her new office in Glencoe after her recent move from Georgia to congratulate her on the new venture. Enjoy snacks and refreshments following the ribbon cutting.  Visit her on Facebook at Liz Brumbelow State Farm before the event!
X-ALT-DESC;FMTTYPE=text/html:<span style="font-size:16px\;"><span style="font-family:arial\;">Join The Chamber for a Ribbon Cutting at State Farm Insurance- Liz Brumbelow! Come see her new office in Glencoe after her recent move from Georgia to congratulate her on the new venture. Enjoy snacks and refreshments following the ribbon cutting.&nbsp\; Visit her on Facebook at <a href="https://www.facebook.com/LizBrumbelowStateFarm/"><strong><span style="color:#0000FF\;">Liz Brumbelow State Farm</span></strong></a>&nbsp\;before the event!</span></span>
LOCATION:State Farm Insurance- Liz Brumbelow 620 Banks Street\, Suite D Glencoe\, AL 35905
UID:e.1432.398061
SEQUENCE:3
DTSTAMP:20260421T161058Z
URL:http://business.etowahchamber.org/events/details/ribbon-cutting-for-state-farm-insurance-liz-brumbelow-398061
END:VEVENT

END:VCALENDAR
