BEGIN:VCALENDAR
VERSION:2.0
PRODID:-//ChamberMaster//Event Calendar 2.0//EN
METHOD:PUBLISH
X-PUBLISHED-TTL:P3D
REFRESH-INTERVAL:P3D
CALSCALE:GREGORIAN
BEGIN:VEVENT
DTSTART:20180806T160000Z
DTEND:20180806T170000Z
X-MICROSOFT-CDO-ALLDAYEVENT:FALSE
SUMMARY:Ribbon Cutting for Sweet CeCe's
DESCRIPTION:Join The Chamber for a Ribbon Cutting at Sweet CeCe's in Rainbow City! Come see the new store where creating your own frozen yogurt dessert is a fun experience\, with other options available. Stop by to meet the owners and congratulate them on the new frozen yogurt shop in Rainbow City! Enjoy samples following the ribbon cutting ceremony. Check them out online at Sweet CeCe's before the ribbon cutting!
X-ALT-DESC;FMTTYPE=text/html:<span style="font-size:16px\;"><span style="font-family:arial\;">Join The Chamber for a Ribbon Cutting at Sweet CeCe&#39\;s in Rainbow City!&nbsp\;Come see the new store where creating your own frozen yogurt dessert is a fun experience\, with other options available. Stop by to meet the owners and congratulate them on the new frozen yogurt shop in Rainbow City! Enjoy samples following the ribbon cutting ceremony.&nbsp\;Check them out online at<font color="#0000ff">&nbsp\;</font><a href="https://www.facebook.com/sweetcecesrbc/"><span style="color:#0000FF\;"><b>Sweet CeCe&#39\;s</b></span></a><font color="#0000ff">&nbsp\;</font>before the ribbon cutting!</span></span>
LOCATION:Sweet CeCe's 3504-B Rainbow Drive Rainbow City\, AL 35906
UID:e.1432.397979
SEQUENCE:3
DTSTAMP:20260421T134949Z
URL:http://business.etowahchamber.org/events/details/ribbon-cutting-for-sweet-cece-s-397979
END:VEVENT

END:VCALENDAR
