BEGIN:VCALENDAR
VERSION:2.0
PRODID:-//ChamberMaster//Event Calendar 2.0//EN
METHOD:PUBLISH
X-PUBLISHED-TTL:P3D
REFRESH-INTERVAL:P3D
CALSCALE:GREGORIAN
BEGIN:VEVENT
DTSTART:20230330T160000Z
DTEND:20230330T170000Z
X-MICROSOFT-CDO-ALLDAYEVENT:FALSE
SUMMARY:Ribbon Cutting for The Sweet Nation\, LLC
DESCRIPTION:Join the Chamber & The Sweet Nation\, LLC for a ribbon cutting as they celebrate the opening of their new business at 1960 Rainbow Drive in Gadsden! Come meet the owner and the rest of the staff while you take a tour of the building\, but you can't go to The Sweet Nation without trying one of the many options they offer on their menu which includes but is not limited to korean corn dogs\, bubble tea\, acai bowls\, smoothies\, shaved ice\, and various teas.
X-ALT-DESC;FMTTYPE=text/html:<span style="font-size:16px\;"><span style="font-family:arial\;">Join the Chamber &amp\; <strong><a href="https://www.facebook.com/profile.php?id=100089680268308"><span style="color:#0000FF\;">The Sweet Nation\, LLC</span></a></strong> for a ribbon cutting as they celebrate the opening of their new business at 1960 Rainbow Drive in Gadsden! Come meet the owner and the rest of the staff while you take a tour of the building\, but you can&#39\;t go to The Sweet Nation without trying one of the many options they offer on their menu which includes but is not limited to korean corn dogs\, bubble tea\, acai bowls\, smoothies\, shaved ice\, and various teas.&nbsp\;</span></span>
LOCATION:The Sweet Nation
UID:e.1432.406229
SEQUENCE:3
DTSTAMP:20260421T081922Z
URL:http://business.etowahchamber.org/events/details/ribbon-cutting-for-the-sweet-nation-llc-406229
END:VEVENT

END:VCALENDAR
