BEGIN:VCALENDAR
VERSION:2.0
PRODID:-//ChamberMaster//Event Calendar 2.0//EN
METHOD:PUBLISH
X-PUBLISHED-TTL:P3D
REFRESH-INTERVAL:P3D
CALSCALE:GREGORIAN
BEGIN:VEVENT
DTSTART:20190918T210000Z
DTEND:20190918T220000Z
X-MICROSOFT-CDO-ALLDAYEVENT:FALSE
SUMMARY:Ribbon Cutting for TherapySouth Gadsden
DESCRIPTION:Join The Chamber for a Ribbon Cutting at TherapySouth Gadsden! Come meet the staff at the recently opened location on George Wallace Drive in Gadsden. Take a tour of their facility and enjoy refreshments following the ribbon cutting ceremony. Visit TherapySouth Gadsden on Facebook before the event!\n\n\n\nAbout TherapySouth: TherapySouth is a therapist-owned\, outpatient physical therapy practice that specializes in hands-on\, patient-centered care. We are glad to be serving Gadsden and the surrounding areas. Your goals are our goals and we will work with your and your health-care providers to help you reach your full physical potential.
X-ALT-DESC;FMTTYPE=text/html:<span style="font-size:16px\;"><span style="font-family:arial\;">Join The Chamber for a Ribbon Cutting at TherapySouth Gadsden! Come meet the staff at the recently opened location on George Wallace Drive in Gadsden. Take a tour of their facility and enjoy refreshments following the ribbon cutting ceremony. Visit <a href="https://www.facebook.com/tsgadsden/"><b><span style="color:#0000FF\;">TherapySouth Gadsden</span></b></a><font color="#0000ff"><b>&nbsp\;</b></font>on Facebook before the event!<br />\n<br />\n<em><strong>About TherapySouth:</strong></em>&nbsp\;TherapySouth is a therapist-owned\, outpatient physical therapy practice that specializes in hands-on\, patient-centered care. We are glad to be serving Gadsden and the surrounding areas. Your goals are our goals and we will work with your and your health-care providers to help you reach your full physical potential.</span></span>
LOCATION:TherapySouth Gadsden
UID:e.1432.401358
SEQUENCE:3
DTSTAMP:20260422T082913Z
URL:http://business.etowahchamber.org/events/details/ribbon-cutting-for-therapysouth-gadsden-401358
END:VEVENT

END:VCALENDAR
