BEGIN:VCALENDAR
VERSION:2.0
PRODID:-//ChamberMaster//Event Calendar 2.0//EN
METHOD:PUBLISH
X-PUBLISHED-TTL:P3D
REFRESH-INTERVAL:P3D
CALSCALE:GREGORIAN
BEGIN:VEVENT
DTSTART:20181219T180000Z
DTEND:20181219T190000Z
X-MICROSOFT-CDO-ALLDAYEVENT:FALSE
SUMMARY:Ribbon Cutting for Todd Davis State Farm Agency(New Location)
DESCRIPTION:Join The Chamber for a Ribbon Cutting at Todd Davis State Farm Agency! Come see their new location in Southside and congratulate the staff on the recent move. Enjoy food and refreshments following the ribbon cutting. Visit them on Facebook at Todd Davis State Farm Agency before the event!
X-ALT-DESC;FMTTYPE=text/html:<span style="font-size:16px\;"><span style="font-family:arial\;">Join The Chamber for a Ribbon Cutting at Todd Davis State Farm Agency! Come see their new location in Southside and congratulate the staff on the recent move. Enjoy food and refreshments following the ribbon cutting. Visit them on Facebook at <a href="https://www.facebook.com/Todd-Davis-State-Farm-Agency-177415602314275/"><font color="#0000ff"><b>Todd Davis State Farm Agency</b></font></a>&nbsp\;before the event!</span></span>
LOCATION:Todd Davis State Farm 2470 Highway 77 Southside\, AL 35907
UID:e.1432.398632
SEQUENCE:3
DTSTAMP:20260421T185350Z
URL:http://business.etowahchamber.org/events/details/ribbon-cutting-for-todd-davis-state-farm-agency-new-location-398632
END:VEVENT

END:VCALENDAR
