BEGIN:VCALENDAR
VERSION:2.0
PRODID:-//ChamberMaster//Event Calendar 2.0//EN
METHOD:PUBLISH
X-PUBLISHED-TTL:P3D
REFRESH-INTERVAL:P3D
CALSCALE:GREGORIAN
BEGIN:VEVENT
DTSTART:20190223T160000Z
DTEND:20190223T170000Z
X-MICROSOFT-CDO-ALLDAYEVENT:FALSE
SUMMARY:Ribbon Cutting for Wal-Mart Gadsden: Online Grocery Pickup Addition
DESCRIPTION:Join The Chamber for a Ribbon Cutting at Wal-Mart in East Gadsden and come see the Online Grocery Pickup addition to the store! Hear remarks from management\, enjoy refreshments following the ribbon cutting event\, and register for door prizes! Visit them on Facebook at Wal-Mart before the event to learn more about the new addition.
X-ALT-DESC;FMTTYPE=text/html:<span style="font-size:16px\;"><span style="font-family:arial\;">Join The Chamber for a Ribbon Cutting at Wal-Mart in East Gadsden and come see the Online Grocery Pickup addition to the store! Hear remarks from management\, enjoy refreshments following the ribbon cutting event\, and register for door prizes! Visit them on Facebook at&nbsp\;<a href="https://www.facebook.com/Walmart301/"><font color="#0000ff"><b>Wal-Mart</b></font></a>&nbsp\;before the event to learn more about the new addition.</span></span>
LOCATION:Wal-Mart Gadsden 340 East Meighan Boulevard Gadsden\, AL 35903
UID:e.1432.400245
SEQUENCE:3
DTSTAMP:20260421T214536Z
URL:http://business.etowahchamber.org/events/details/ribbon-cutting-for-wal-mart-gadsden-online-grocery-pickup-addition-400245
END:VEVENT

END:VCALENDAR
