BEGIN:VCALENDAR
VERSION:2.0
PRODID:-//ChamberMaster//Event Calendar 2.0//EN
METHOD:PUBLISH
X-PUBLISHED-TTL:P3D
REFRESH-INTERVAL:P3D
CALSCALE:GREGORIAN
BEGIN:VEVENT
DTSTART:20190220T170000Z
DTEND:20190220T180000Z
X-MICROSOFT-CDO-ALLDAYEVENT:FALSE
SUMMARY:Ribbon Cutting for Willmore Total Fitness
DESCRIPTION:Join The Chamber for a Ribbon Cutting at Willmore Total Fitness! Come see the recently opened gym in Rainbow City and meet owners Jon and Stephanie Willmore. Hear remarks from the owners\, take a tour of the new gym\, and enjoy refreshments following the ribbon cutting event. Visit them online at Willmore Total Fitness before the event to learn more!
X-ALT-DESC;FMTTYPE=text/html:<span style="font-size:16px\;"><span style="font-family:arial\;">Join The Chamber for a Ribbon Cutting at Willmore Total Fitness! Come see the recently opened gym in Rainbow City and meet owners Jon and Stephanie Willmore. Hear remarks from the owners\, take a tour of the new gym\, and enjoy refreshments following the ribbon cutting event. Visit them online at <b><a href="https://www.facebook.com/WTfitnessRBC/"><span style="color:#0000FF\;">W</span></a></b><a href="https://www.facebook.com/WTfitnessRBC/"><span style="color:#0000FF\;"><b>illmore Total Fitness</b></span></a>&nbsp\;before the event to learn more!</span></span>
LOCATION:Willmore Total Fitness 209 Rescia Avenue Rainbow City\, AL 35906
UID:e.1432.398758
SEQUENCE:3
DTSTAMP:20260421T214843Z
URL:http://business.etowahchamber.org/events/details/ribbon-cutting-for-willmore-total-fitness-398758
END:VEVENT

END:VCALENDAR
