BEGIN:VCALENDAR
VERSION:2.0
PRODID:-//ChamberMaster//Event Calendar 2.0//EN
METHOD:PUBLISH
X-PUBLISHED-TTL:P3D
REFRESH-INTERVAL:P3D
CALSCALE:GREGORIAN
BEGIN:VEVENT
DTSTART:20190930T153000Z
DTEND:20190930T160000Z
X-MICROSOFT-CDO-ALLDAYEVENT:FALSE
SUMMARY:Ribbon Cutting & Grand Opening at Buffalo Wild Wings
DESCRIPTION:Join The Chamber for a Ribbon Cutting & Grand Opening for Buffalo Wild Wings in Gadsden! Come meet the owners and staff of the new location in Gadsden. Stay for lunch when they open to the public following the ribbon cutting and welcome them to the area!
X-ALT-DESC;FMTTYPE=text/html:<span style="font-size:16px\;"><span style="font-family:arial\;">Join The Chamber for a Ribbon Cutting &amp\; Grand Opening for Buffalo Wild Wings in Gadsden! Come meet the owners and staff of the new location in Gadsden. Stay for lunch when they open to the public following the ribbon cutting and welcome them to the area!</span></span>
LOCATION:Buffalo Wild Wings- Gadsden
UID:e.1432.401410
SEQUENCE:3
DTSTAMP:20260422T083114Z
URL:http://business.etowahchamber.org/events/details/ribbon-cutting-grand-opening-at-buffalo-wild-wings-401410
END:VEVENT

END:VCALENDAR
