BEGIN:VCALENDAR
VERSION:2.0
PRODID:-//ChamberMaster//Event Calendar 2.0//EN
METHOD:PUBLISH
X-PUBLISHED-TTL:P3D
REFRESH-INTERVAL:P3D
CALSCALE:GREGORIAN
BEGIN:VEVENT
DTSTART:20130822T160000Z
DTEND:20130822T180000Z
X-MICROSOFT-CDO-ALLDAYEVENT:FALSE
SUMMARY:Ribbon Cutting/ Grand Opening & Customer Appreciation Event at Just Russ Rental
DESCRIPTION:Join the Chamber for a Ribbon Cutting/ Grand Opening at \n\nJust Russ Rental\n\nLunch served along with door prizes and product demonstrations.  Please RSVP to Nick or Carson 256-543-0145
X-ALT-DESC;FMTTYPE=text/html:Join the Chamber for a Ribbon Cutting/ Grand Opening at&nbsp\;<br />\n<span style="font-size:26px\;"><span style="color:#ff0000\;"><strong>Just Russ Rental</strong></span></span><br />\nLunch served along with door prizes and product demonstrations.&nbsp\; Please RSVP to Nick or Carson 256-543-0145
LOCATION:301 N 3rd St Gadsden
UID:e.1432.383937
SEQUENCE:3
DTSTAMP:20260423T075655Z
URL:http://business.etowahchamber.org/events/details/ribbon-cutting-grand-opening-customer-appreciation-event-at-just-russ-rental-08-22-2013-383937
END:VEVENT

END:VCALENDAR
