BEGIN:VCALENDAR
VERSION:2.0
PRODID:-//ChamberMaster//Event Calendar 2.0//EN
METHOD:PUBLISH
X-PUBLISHED-TTL:P3D
REFRESH-INTERVAL:P3D
CALSCALE:GREGORIAN
BEGIN:VEVENT
DTSTART:20180919T160000Z
DTEND:20180919T170000Z
X-MICROSOFT-CDO-ALLDAYEVENT:FALSE
SUMMARY:Ribbon Cutting & Open House for Country Financial- Mooneyham Agency\, Inc.
DESCRIPTION:Join The Chamber for a Ribbon Cutting & Open House at Country Financial- Mooneyham Agency\, Inc.! Come meet Melissa Mooneyham\, Financial Representative\, at her new location on Walnut Street in Downtown Gadsden\, and check out the new office!\n\n\n\nThe Chamber\, Gadsden & Etowah County will also be drawing for a new iPad sponsored Mooneyham Agency-Country Financial!\n\nNames will be collected during agency business hours\, 9 A.M.- 5 P.M.\, on Wednesday\, September 19th. The winner will be announced at the end of the business day!\n\n\n\nEnjoy snacks and refreshments following the ribbon cutting.  Visit them on Facebook at Country Financial- Mooneyham Agency\, Inc. before the event!
X-ALT-DESC;FMTTYPE=text/html:<span style="font-size:16px\;"><span style="font-family:arial\;">Join The Chamber for a Ribbon Cutting &amp\; Open House at Country Financial- Mooneyham Agency\, Inc.! Come meet Melissa Mooneyham\, Financial Representative\, at her new location on Walnut Street in Downtown Gadsden\, and check out the new office!<br />\n<br />\n<strong><span style="background-color:#FFFF00\;"><span style="font-size:18px\;">The Chamber\, Gadsden &amp\; Etowah County will also be drawing for a new iPad sponsored Mooneyham Agency-Country Financial!</span></span><br />\nNames will be collected during agency business hours\, 9 A.M.- 5 P.M.\, on Wednesday\, September 19th. The winner will be announced at the end of the business day!</strong><br />\n<br />\nEnjoy snacks and refreshments following the ribbon cutting.&nbsp\; Visit them on Facebook at <a href="https://www.facebook.com/Melissa-R-Mooneyham-Mooneyham-Agency-Inc-939563402753629/"><strong><span style="color:#0000FF\;">Country Financial- Mooneyham Agency\, Inc.</span></strong></a>&nbsp\;before the event!</span></span>
LOCATION:Country Financial- Mooneyham Agency\, Inc. 516 Walnut Street Gadsden\, AL 35901
UID:e.1432.398041
SEQUENCE:3
DTSTAMP:20260421T162701Z
URL:http://business.etowahchamber.org/events/details/ribbon-cutting-open-house-for-country-financial-mooneyham-agency-inc-398041
END:VEVENT

END:VCALENDAR
