BEGIN:VCALENDAR
VERSION:2.0
PRODID:-//ChamberMaster//Event Calendar 2.0//EN
METHOD:PUBLISH
X-PUBLISHED-TTL:P3D
REFRESH-INTERVAL:P3D
CALSCALE:GREGORIAN
BEGIN:VEVENT
DTSTART:20180904T210000Z
DTEND:20180904T230000Z
X-MICROSOFT-CDO-ALLDAYEVENT:FALSE
SUMMARY:Ribbon Cutting & Open House for Gadsden Orthodontics
DESCRIPTION:Join The Chamber for a Ribbon Cutting & Open House at Gadsden Orthodontics! Come meet Dr. Katie Haynie at the brand new orthodontics office in Downtown Gadsden and the staff. With free consultations they are excited to serve kids\, teenagers and adults from the local Gadsden office as they strive to be your excellent resource for the best in orthodontic care. Visit them on Facebook at Gadsden Orthodontics before the event!
X-ALT-DESC;FMTTYPE=text/html:<span style="font-size:16px\;"><span style="font-family:arial\;">Join The Chamber for a Ribbon Cutting &amp\; Open House at Gadsden Orthodontics! Come meet Dr. Katie Haynie at the brand new orthodontics office in Downtown Gadsden and the staff.&nbsp\;With free consultations they are excited to serve kids\, teenagers and adults from the local Gadsden office as they strive to be your excellent resource for the best in orthodontic care. Visit them on Facebook at <a href="https://www.facebook.com/GadsdenOrthodontics/"><strong><span style="color:#0000FF\;">Gadsden Orthodontics</span></strong></a>&nbsp\;before the event!</span></span>
LOCATION:Gadsden Orthodontics 315 South 4th Street Gadsden\, AL 35901
UID:e.1432.398036
SEQUENCE:3
DTSTAMP:20260421T150400Z
URL:http://business.etowahchamber.org/events/details/ribbon-cutting-open-house-for-gadsden-orthodontics-398036
END:VEVENT

END:VCALENDAR
