BEGIN:VCALENDAR
VERSION:2.0
PRODID:-//ChamberMaster//Event Calendar 2.0//EN
METHOD:PUBLISH
X-PUBLISHED-TTL:P3D
REFRESH-INTERVAL:P3D
CALSCALE:GREGORIAN
BEGIN:VEVENT
DTSTART:20190925T210000Z
DTEND:20190925T220000Z
X-MICROSOFT-CDO-ALLDAYEVENT:FALSE
SUMMARY:Ribbon Cutting & Open House for Glory & Grace School of Dance
DESCRIPTION:Join The Chamber for a Ribbon Cutting and Open House at Glory & Grace School of Dance! Come meet the staff and hear remarks from the Artistic Director Erica Goggans at Glory & Grace. Join them for a tour of their facility\, register for giveaways\, receive discounts on new students/referrals\, entertainment\, and enjoy refreshments following the ribbon cutting ceremony. Visit Glory & Grace School of Dance on Facebook before the event!\n\n\n\nAbout Glory & Grace School of Dance: Glory & Grace offers Northeast Alabama an alternative to traditional dance studios by providing technically sound dance education in a Christian environment that emphasizes hard work\, discipline and respect. The program is open to women and girls ages 3 to adult regardless of religious affiliation.
X-ALT-DESC;FMTTYPE=text/html:<span style="font-size:16px\;"><span style="font-family:arial\;">Join The Chamber for a Ribbon Cutting and Open House at Glory &amp\; Grace School of Dance! Come meet the staff and hear remarks from the Artistic Director Erica Goggans at Glory &amp\; Grace. Join them for a tour of their facility\, register for giveaways\, receive discounts on new students/referrals\, entertainment\, and enjoy refreshments following the ribbon cutting ceremony. Visit <a href="https://www.facebook.com/glorygracedance/"><b><span style="color:#0000FF\;">Glory &amp\; Grace School of Dance</span></b></a><font color="#0000ff"><b>&nbsp\;</b></font>on Facebook before the event!<br />\n<br />\n<em><strong>About Glory &amp\; Grace School of Dance:&nbsp\;Glory &amp\; Grace offers Northeast Alabama an alternative to traditional dance studios by providing technically sound dance education in a Christian environment that emphasizes hard work\, discipline and respect. The program is open to women and girls ages 3 to adult regardless of religious affiliation.</strong></em></span></span>
LOCATION:Glory & Grace School of Dance
UID:e.1432.401392
SEQUENCE:3
DTSTAMP:20260422T083715Z
URL:http://business.etowahchamber.org/events/details/ribbon-cutting-open-house-for-glory-grace-school-of-dance-401392
END:VEVENT

END:VCALENDAR
