BEGIN:VCALENDAR
VERSION:2.0
PRODID:-//ChamberMaster//Event Calendar 2.0//EN
METHOD:PUBLISH
X-PUBLISHED-TTL:P3D
REFRESH-INTERVAL:P3D
CALSCALE:GREGORIAN
BEGIN:VEVENT
DTSTART:20181017T163000Z
DTEND:20181017T173000Z
X-MICROSOFT-CDO-ALLDAYEVENT:FALSE
SUMMARY:Ribbon Cutting & Open House for Rehab Partners\, PC(30th Anniversary)
DESCRIPTION:Join The Chamber for a Ribbon Cutting & Open House at Rehab Partners\, PC to celebrate their 30th Anniversary of the clinic! Register to win gift baskets and 30th Anniversary shirts. Come hear remarks from owners David Bishop and Kent Stewart. Take a tour of the clinic with the staff while you are there! Enjoy food and refreshments following the ribbon cutting.  Visit them on Facebook at Rehab Partners\, PC before the event!
X-ALT-DESC;FMTTYPE=text/html:<span style="font-size:16px\;"><span style="font-family:arial\;">Join The Chamber for a Ribbon Cutting &amp\; Open House at Rehab Partners\, PC to celebrate their 30th Anniversary of the clinic! Register to win gift baskets and 30th Anniversary shirts. Come hear remarks from owners David Bishop and Kent Stewart. Take a tour of the clinic with the staff while you are there! Enjoy food and refreshments following the ribbon cutting.&nbsp\; Visit them on Facebook at <a href="https://www.facebook.com/Rehab-Partners-Gadsden-171948742877522/"><strong><span style="color:#0000FF\;">Rehab Partners\, PC</span></strong></a>&nbsp\;before the event!</span></span>
LOCATION:Rehab Partners\, PC 426 South 4th Street Gadsden\, AL 35901
UID:e.1432.398189
SEQUENCE:3
DTSTAMP:20260421T161031Z
URL:http://business.etowahchamber.org/events/details/ribbon-cutting-open-house-for-rehab-partners-pc-30th-anniversary-398189
END:VEVENT

END:VCALENDAR
