BEGIN:VCALENDAR
VERSION:2.0
PRODID:-//ChamberMaster//Event Calendar 2.0//EN
METHOD:PUBLISH
X-PUBLISHED-TTL:P3D
REFRESH-INTERVAL:P3D
CALSCALE:GREGORIAN
BEGIN:VEVENT
DTSTART:20181212T193000Z
DTEND:20181212T203000Z
X-MICROSOFT-CDO-ALLDAYEVENT:FALSE
SUMMARY:Ribbon Cutting & Open House for River City Allergy & Medical
DESCRIPTION:Join The Chamber for a Ribbon Cutting & Open House at River City Allergy & Medical(formerly ENT Associates of Gadsden)! Come hear remarks from the owners and the employees of the clinic\, take a staff led tour\, & congratulate them on the recent changes. In addition to the ribbon cutting at 1 :30 P.M.: hors d'oeuvres and snacks served all day\, lunch catered by Local Joe's Trading Post from 12:00 - 1:30 P.M.\, first 40 attendees get a free River City T-shirt\, free pictures with Santa from 1:30 - 3:00 P.M.. Visit them on Facebook at River City Allergy & Medical before the event!
X-ALT-DESC;FMTTYPE=text/html:<span style="font-size:16px\;"><span style="font-family:arial\;">Join The Chamber for a Ribbon Cutting &amp\; Open House at River City Allergy &amp\; Medical(formerly ENT Associates of Gadsden)! Come hear remarks from the owners and the employees of the clinic\, take a staff led tour\, &amp\; congratulate them on the recent changes. In addition to the ribbon cutting at 1 :30 P.M.: hors d&#39\;oeuvres and snacks served all day\, lunch catered by Local Joe&#39\;s Trading Post from 12:00 - 1:30 P.M.\, first 40 attendees get a free River City T-shirt\, free pictures with Santa from 1:30 - 3:00 P.M.. Visit them on Facebook at <a href="https://www.facebook.com/RiverCityAllergyandMedical/"><font color="#0000ff"><b>River City Allergy &amp\; Medical</b></font></a>&nbsp\;before the event!</span></span>
LOCATION:River City Allergy & Medical 515 South 3rd Street Gadsden\, AL 35901
UID:e.1432.398386
SEQUENCE:3
DTSTAMP:20260421T185556Z
URL:http://business.etowahchamber.org/events/details/ribbon-cutting-open-house-for-river-city-allergy-medical-398386
END:VEVENT

END:VCALENDAR
