BEGIN:VCALENDAR
VERSION:2.0
PRODID:-//ChamberMaster//Event Calendar 2.0//EN
METHOD:PUBLISH
X-PUBLISHED-TTL:P3D
REFRESH-INTERVAL:P3D
CALSCALE:GREGORIAN
BEGIN:VEVENT
DTSTART:20180711T160000Z
DTEND:20180711T180000Z
X-MICROSOFT-CDO-ALLDAYEVENT:FALSE
SUMMARY:Ribbon Cutting & Open House for Southern Immediate Care
DESCRIPTION:Join The Chamber for a Ribbon Cutting & Open House at Southern Immediate Care in Attalla! Come out to see their recently opened practice and meet the staff of the new urgent/primary care facility.  Enjoy refreshments and food following the ribbon cutting! Check them out online at Southern Immediate Care before the ribbon cutting!
X-ALT-DESC;FMTTYPE=text/html:<span style="font-size:16px\;"><span style="font-family:arial\;">Join The Chamber for a Ribbon Cutting &amp\; Open House at Southern Immediate Care in Attalla! Come out to see their recently opened practice and meet the staff of the new urgent/primary care facility.&nbsp\; Enjoy refreshments and food following the ribbon cutting! Check them out online at<font color="#0000ff">&nbsp\;</font><a href="https://www.facebook.com/Southern-Immediate-Care-1789464934461940/"><strong><span style="color:#0000FF\;">Southern Immediate Care</span></strong></a><font color="#0000ff">&nbsp\;</font>before the ribbon cutting!</span></span>
LOCATION:Southern Immediate Care 956 Gilbert Ferry Road SE Attalla\, AL 35954
UID:e.1432.397867
SEQUENCE:3
DTSTAMP:20260421T122625Z
URL:http://business.etowahchamber.org/events/details/ribbon-cutting-open-house-for-southern-immediate-care-397867
END:VEVENT

END:VCALENDAR
