BEGIN:VCALENDAR
VERSION:2.0
PRODID:-//ChamberMaster//Event Calendar 2.0//EN
METHOD:PUBLISH
X-PUBLISHED-TTL:P3D
REFRESH-INTERVAL:P3D
CALSCALE:GREGORIAN
BEGIN:VEVENT
DTSTART:20181023T210000Z
DTEND:20181023T230000Z
X-MICROSOFT-CDO-ALLDAYEVENT:FALSE
SUMMARY:Ribbon Cutting & Open House for State Farm Insurance- Colton Harris
DESCRIPTION:Join The Chamber for a Ribbon Cutting & Open House at State Farm Insurance- Colton Harris! Formerly Danny Clayton State Farm\, Colton Harris has become the new agency owner at the location. Come meet Colton and the staff of the agency to congratulate them on the new venture! Enjoy hors d'oeuvres and drinks following the ribbon cutting. Visit them on Facebook at Colton Harris State Farm before the event!
X-ALT-DESC;FMTTYPE=text/html:<span style="font-size:16px\;"><span style="font-family:arial\;">Join The Chamber for a Ribbon Cutting &amp\; Open House at State Farm Insurance- Colton Harris! Formerly Danny Clayton State Farm\, Colton Harris has become the new agency owner at the location. Come meet Colton and the staff of the agency to congratulate them on the new venture! Enjoy hors d&#39\;oeuvres and drinks following the ribbon cutting. Visit them on Facebook at <strong><a href="https://www.facebook.com/Colton-Harris-State-Farm-947814972085322/"><span style="color:#0000FF\;">C</span></a></strong><a href="https://www.facebook.com/Colton-Harris-State-Farm-947814972085322/"><span style="color:#0000FF\;"><strong>olton Harris State Farm</strong></span></a>&nbsp\;before the event!</span></span>
LOCATION:Colton Harris State Farm 900 South 4th Street Gadsden\, AL 35901
UID:e.1432.398129
SEQUENCE:3
DTSTAMP:20260421T161145Z
URL:http://business.etowahchamber.org/events/details/ribbon-cutting-open-house-for-state-farm-insurance-colton-harris-398129
END:VEVENT

END:VCALENDAR
