BEGIN:VCALENDAR
VERSION:2.0
PRODID:-//ChamberMaster//Event Calendar 2.0//EN
METHOD:PUBLISH
X-PUBLISHED-TTL:P3D
REFRESH-INTERVAL:P3D
CALSCALE:GREGORIAN
BEGIN:VEVENT
DTSTART:20191016T210000Z
DTEND:20191016T230000Z
X-MICROSOFT-CDO-ALLDAYEVENT:FALSE
SUMMARY:Ribbon Cutting & Open House for Sue Holland Realty\, LLC
DESCRIPTION:Join the The Chamber for a ribbon cutting & open house at Sue Holland Realty\, LLC at Sue's new location at 216 South 5th Street in Gadsden! Drop in for giveaways from Sue Holland Realty\, take a tour of Sue's new office location\, and enjoy food catered by C&J's Crab Shack and Bar following the ribbon cutting. Visit the Sue Holland Realty LLC online before the event!\n\n\n\nAbout Sue Holland Realty\, LLC: If someone had told me earlier in life that I could be a successful salesperson\, I would have laughed. As it turned out\, real estate is right up my alley! I have always had a passion to help others and love Alabama...especially my own community. From the get-go\, I quickly realized that selling and listing real estate is not about me...it's about you\, my customer.\n\n\n\nEverybody has their own journey in this life. I believe it's a privilege to be a part of a new chapter in a person's life...to know others and their family...to have people trust and place confidence in me as their Realtor. Real estate is my journey...it's a chapter of my life that I get to experience daily.\n\n\n\nI love what I do for a living because of you! Thank you and when you need to buy or sell a home...call me. Sue Holland\, 256-312-1799 "You have a friend in the real estate business."
X-ALT-DESC;FMTTYPE=text/html:<span style="font-size:16px\;"><span style="font-family:arial\;">Join the The Chamber for a ribbon cutting &amp\; open house at Sue Holland Realty\, LLC at Sue&#39\;s new location at 216 South 5th Street in Gadsden! Drop in for giveaways from Sue Holland Realty\, take a tour of Sue&#39\;s new office location\, and enjoy food catered by <strong><a href="https://www.facebook.com/C-Js-Crab-Shack-Bar-650519148674977/"><span style="color:#0000FF\;">C&amp\;J&#39\;s Crab Shack and Bar</span></a></strong> following the ribbon cutting. Visit the&nbsp\;<strong><a href="https://www.facebook.com/SueHollandBroker/"><span style="color:#0000FF\;">Sue Holland Realty LLC</span></a><span style="color:#0000FF\;">&nbsp\;</span></strong>online before the event!<br />\n<br />\n<em><strong>About Sue Holland Realty\, LLC:&nbsp\;If someone had told me earlier in life that I could be a successful salesperson\, I would have laughed. As it turned out\, real estate is right up my alley! I have always had a passion to help others and love Alabama...especially my own community. From the get-go\, I quickly realized that selling and listing real estate is not about me...it&rsquo\;s about you\, my customer.<br />\n<br />\nEverybody has their own journey in this life. I believe it&rsquo\;s a privilege to be a part of a new chapter in a person&rsquo\;s life...to know others and their family...to have people trust and place confidence in me as their Realtor. Real estate is my journey...it&rsquo\;s a chapter of my life that I get to experience daily.<br />\n<br />\nI love what I do for a living because of you! Thank you and when you need to buy or sell a home...call me. Sue Holland\, 256-312-1799 &ldquo\;You have a friend in the real estate business.&rdquo\;</strong></em> </span></span>
LOCATION:Sue Holland Realty LLC
UID:e.1432.401437
SEQUENCE:3
DTSTAMP:20260422T082913Z
URL:http://business.etowahchamber.org/events/details/ribbon-cutting-open-house-for-sue-holland-realty-llc-401437
END:VEVENT

END:VCALENDAR
