BEGIN:VCALENDAR
VERSION:2.0
PRODID:-//ChamberMaster//Event Calendar 2.0//EN
METHOD:PUBLISH
X-PUBLISHED-TTL:P3D
REFRESH-INTERVAL:P3D
CALSCALE:GREGORIAN
BEGIN:VEVENT
DTSTART:20130614T200000Z
DTEND:20130614T210000Z
X-MICROSOFT-CDO-ALLDAYEVENT:FALSE
SUMMARY:Ribbon Cutting: T.L.C. Trade Day
DESCRIPTION:Ribbon Cutting\n\nTLC Trade Day\n\n\n	724 West Grand Avenue\n\n	Rainbow City\, AL 35906\nFriday\, June 14\, 2013\n\n3 p.m. - 4 p.m.
X-ALT-DESC;FMTTYPE=text/html:<span style="font-size:14px\;"><span style="font-family: arial\;"><strong><span style="font-size:20px\;"><span style="color: rgb(178\, 34\, 34)\;">Ribbon Cutting</span></span><br />\nTLC Trade Day</strong></span></span><br />\n<div class="mn-member-address" itemprop="streetAddress" style="margin: 0px\; padding: 0px\; background-image: none\; background-color: rgb(253\, 252\, 247)\; border: none\; border-collapse: separate\; border-image-source: none\; border-image-slice: 100% 1 0\; border-image-repeat: stretch\; border-top-left-radius: 0px\; border-top-right-radius: 0px\; border-bottom-right-radius: 0px\; border-bottom-left-radius: 0px\; bottom: auto\; box-shadow: none\; box-sizing: content-box\; clear: none\; color: rgb(105\, 92\, 78)\; content: normal\; direction: inherit\; empty-cells: show\; font-family: Helvetica\, sans-serif\; font-size: 15px\; left: auto\; line-height: 19px\; max-height: none\; max-width: none\; opacity: 1\; outline: invert none medium\; outline-offset: 0px\; overflow: visible\; position: static\; resize: none\; right: auto\; table-layout: auto\; text-overflow: clip\; top: auto\; vertical-align: baseline\; visibility: inherit\; word-break: inherit\; word-wrap: inherit\; z-index: auto\; height: auto\; width: auto\;">\n	<span style="font-size:14px\;"><span style="font-family: arial\;">724 West Grand Avenue</span></span></div>\n<div class="mn-member-cistpost" style="margin: 0px\; padding: 0px\; background-image: none\; background-color: rgb(253\, 252\, 247)\; border: none\; border-collapse: separate\; border-image-source: none\; border-image-slice: 100% 1 0\; border-image-repeat: stretch\; border-top-left-radius: 0px\; border-top-right-radius: 0px\; border-bottom-right-radius: 0px\; border-bottom-left-radius: 0px\; bottom: auto\; box-shadow: none\; box-sizing: content-box\; clear: none\; color: rgb(105\, 92\, 78)\; content: normal\; direction: inherit\; empty-cells: show\; font-family: Helvetica\, sans-serif\; font-size: 15px\; left: auto\; line-height: 19px\; max-height: none\; max-width: none\; opacity: 1\; outline: invert none medium\; outline-offset: 0px\; overflow: visible\; position: static\; resize: none\; right: auto\; table-layout: auto\; text-overflow: clip\; top: auto\; vertical-align: baseline\; visibility: inherit\; word-break: inherit\; word-wrap: inherit\; z-index: auto\; height: auto\; width: auto\;">\n	<span style="font-size:14px\;"><span style="font-family: arial\;"><span itemprop="addressLocality" style="margin: 0px\; padding: 0px\; background-image: none\; border: none\; border-collapse: separate\; border-image-source: none\; border-image-slice: 100% 1 0\; border-image-repeat: stretch\; border-top-left-radius: 0px\; border-top-right-radius: 0px\; border-bottom-right-radius: 0px\; border-bottom-left-radius: 0px\; bottom: auto\; box-shadow: none\; box-sizing: content-box\; clear: none\; color: inherit\; content: normal\; direction: inherit\; display: inline\; empty-cells: show\; font-style: inherit\; font-variant: inherit\; left: auto\; letter-spacing: inherit\; line-height: inherit\; max-height: none\; max-width: none\; opacity: 1\; outline: invert none medium\; outline-offset: 0px\; overflow: visible\; position: static\; resize: none\; right: auto\; table-layout: auto\; text-align: inherit\; text-indent: inherit\; text-overflow: clip\; text-transform: inherit\; top: auto\; vertical-align: baseline\; visibility: inherit\; white-space: inherit\; word-break: inherit\; word-spacing: inherit\; word-wrap: inherit\; z-index: auto\; height: auto\; width: auto\;">Rainbow City</span>\,&nbsp\;<span itemprop="addressRegion" style="margin: 0px\; padding: 0px\; background-image: none\; border: none\; border-collapse: separate\; border-image-source: none\; border-image-slice: 100% 1 0\; border-image-repeat: stretch\; border-top-left-radius: 0px\; border-top-right-radius: 0px\; border-bottom-right-radius: 0px\; border-bottom-left-radius: 0px\; bottom: auto\; box-shadow: none\; box-sizing: content-box\; clear: none\; color: inherit\; content: normal\; direction: inherit\; display: inline\; empty-cells: show\; font-style: inherit\; font-variant: inherit\; left: auto\; letter-spacing: inherit\; line-height: inherit\; max-height: none\; max-width: none\; opacity: 1\; outline: invert none medium\; outline-offset: 0px\; overflow: visible\; position: static\; resize: none\; right: auto\; table-layout: auto\; text-align: inherit\; text-indent: inherit\; text-overflow: clip\; text-transform: inherit\; top: auto\; vertical-align: baseline\; visibility: inherit\; white-space: inherit\; word-break: inherit\; word-spacing: inherit\; word-wrap: inherit\; z-index: auto\; height: auto\; width: auto\;">AL&nbsp\;</span><span itemprop="postalCode" style="margin: 0px\; padding: 0px\; background-image: none\; border: none\; border-collapse: separate\; border-image-source: none\; border-image-slice: 100% 1 0\; border-image-repeat: stretch\; border-top-left-radius: 0px\; border-top-right-radius: 0px\; border-bottom-right-radius: 0px\; border-bottom-left-radius: 0px\; bottom: auto\; box-shadow: none\; box-sizing: content-box\; clear: none\; color: inherit\; content: normal\; direction: inherit\; display: inline\; empty-cells: show\; font-style: inherit\; font-variant: inherit\; left: auto\; letter-spacing: inherit\; line-height: inherit\; max-height: none\; max-width: none\; opacity: 1\; outline: invert none medium\; outline-offset: 0px\; overflow: visible\; position: static\; resize: none\; right: auto\; table-layout: auto\; text-align: inherit\; text-indent: inherit\; text-overflow: clip\; text-transform: inherit\; top: auto\; vertical-align: baseline\; visibility: inherit\; white-space: inherit\; word-break: inherit\; word-spacing: inherit\; word-wrap: inherit\; z-index: auto\; height: auto\; width: auto\;">35906</span></span></span></div>\n<span style="font-size:14px\;"><span style="font-family: arial\;">Friday\, June 14\, 2013<br />\n3 p.m. - 4 p.m.</span></span>
LOCATION:724 West Grand Avenue Rainbow City\, AL 35906
UID:e.1432.383187
SEQUENCE:3
DTSTAMP:20260423T115243Z
URL:http://business.etowahchamber.org/events/details/ribbon-cutting-t-l-c-trade-day-06-14-2013-383187
END:VEVENT

END:VCALENDAR
