BEGIN:VCALENDAR
VERSION:2.0
PRODID:-//ChamberMaster//Event Calendar 2.0//EN
METHOD:PUBLISH
X-PUBLISHED-TTL:P3D
REFRESH-INTERVAL:P3D
CALSCALE:GREGORIAN
BEGIN:VEVENT
DTSTART:20190906T133000Z
DTEND:20190906T150000Z
X-MICROSOFT-CDO-ALLDAYEVENT:FALSE
SUMMARY:Rise & Shine Economic Development Speaker Series
DESCRIPTION:Join The Chamber for an exclusive update from\n\nShane Ellison\n\nAssistant to Gadsden Mayor Sherman Guyton\n\non economic development activities in the City of Gadsden. \n\n\n\nBreakfast will be provided.
X-ALT-DESC;FMTTYPE=text/html:<div style="text-align: center\;">Join The Chamber for an exclusive update from<br />\n<span style="font-size:24px\;">Shane Ellison</span><br />\nAssistant to Gadsden Mayor Sherman Guyton<br />\non economic development activities in the City of Gadsden.&nbsp\;<br />\n<br />\nBreakfast will be provided.</div>\n
LOCATION:The Chamber Board Room
UID:e.1432.400347
SEQUENCE:3
DTSTAMP:20260422T091241Z
URL:http://business.etowahchamber.org/events/details/rise-shine-economic-development-speaker-series-400347
END:VEVENT

END:VCALENDAR
