BEGIN:VCALENDAR
VERSION:2.0
PRODID:-//ChamberMaster//Event Calendar 2.0//EN
METHOD:PUBLISH
X-PUBLISHED-TTL:P3D
REFRESH-INTERVAL:P3D
CALSCALE:GREGORIAN
BEGIN:VEVENT
DTSTART:20191004T133000Z
DTEND:20191004T150000Z
X-MICROSOFT-CDO-ALLDAYEVENT:FALSE
SUMMARY:Rise & Shine Economic Development Speaker Series
DESCRIPTION:Join The Chamber for an exclusive update on an economic development project or topic from\n\nMarilyn Lott\n\nEtowah County Economic Development Director\n\n\n\nBreakfast will be provided.
X-ALT-DESC;FMTTYPE=text/html:<div style="text-align: center\;">Join The Chamber for an exclusive update on an economic development project or topic from<br />\n<span style="font-size:28px\;">Marilyn Lott<br />\n<span style="font-size:20px\;">Etowah County Economic Development Director</span></span><br />\n<br />\nBreakfast will be provided.</div>\n
LOCATION:The Chamber Board Room
UID:e.1432.400348
SEQUENCE:3
DTSTAMP:20260420T071044Z
URL:http://business.etowahchamber.org/events/details/rise-shine-economic-development-speaker-series-400348
END:VEVENT

END:VCALENDAR
