BEGIN:VCALENDAR
VERSION:2.0
PRODID:-//ChamberMaster//Event Calendar 2.0//EN
METHOD:PUBLISH
X-PUBLISHED-TTL:P3D
REFRESH-INTERVAL:P3D
CALSCALE:GREGORIAN
BEGIN:VEVENT
DTSTART:20140605T190000Z
DTEND:20140605T200000Z
X-MICROSOFT-CDO-ALLDAYEVENT:FALSE
SUMMARY:Riverfest Volunteer Training Meeting
DESCRIPTION:Riverfest Volunteer Training Meeting\n\n\n\nWe will distribute shirts\, tickets\, volunteer passes and watch a training session through Skype on the gate sales/bar scanner system that will be used. \n\n\n\nThe Chamber will provide pizza and an assortment of beverages during the and between the ambassador meeting and training session.
X-ALT-DESC;FMTTYPE=text/html:Riverfest Volunteer Training Meeting<br />\n<br />\nWe will distribute shirts\, tickets\, volunteer passes and watch a training session through Skype on the gate sales/bar scanner system that will be used.&nbsp\;<br />\n<br />\nThe Chamber will provide pizza and an assortment of beverages during the and between the ambassador meeting and training session.
LOCATION:Chamber Board Room
UID:e.1432.384663
SEQUENCE:3
DTSTAMP:20260422T184154Z
URL:http://business.etowahchamber.org/events/details/riverfest-volunteer-training-meeting-06-05-2014-384663
END:VEVENT

END:VCALENDAR
