BEGIN:VCALENDAR
VERSION:2.0
PRODID:-//ChamberMaster//Event Calendar 2.0//EN
METHOD:PUBLISH
X-PUBLISHED-TTL:P3D
REFRESH-INTERVAL:P3D
CALSCALE:GREGORIAN
BEGIN:VEVENT
DTSTART:20130623T190000Z
DTEND:20130623T210000Z
X-MICROSOFT-CDO-ALLDAYEVENT:FALSE
SUMMARY:Riverview Regional Medical Center's Cross Rededication Ceremony
DESCRIPTION:You are cordially invited to Riverview Regional Medical Center's Cross Rededication Ceremony\, Sunday\, June 23rd\, 2pm - 4pm\, in the RRMC Cafeteria.  Special Honorees: Missionary Servants of the Most Blessed Trinity.  Light Refreshments will be served.
X-ALT-DESC;FMTTYPE=text/html:You are cordially invited to Riverview Regional Medical Center&#39\;s Cross Rededication Ceremony\, Sunday\, June 23rd\, 2pm - 4pm\, in the RRMC Cafeteria. &nbsp\;Special Honorees: Missionary Servants of the Most Blessed Trinity. &nbsp\;Light Refreshments will be served.
LOCATION:Riverview Regional Medical Center's Cafeteria\, 2pm - 4pm
UID:e.1432.383301
SEQUENCE:3
DTSTAMP:20260423T115244Z
URL:http://business.etowahchamber.org/events/details/riverview-regional-medical-center-s-cross-rededication-ceremony-06-23-2013-383301
END:VEVENT

END:VCALENDAR
