BEGIN:VCALENDAR
VERSION:2.0
PRODID:-//ChamberMaster//Event Calendar 2.0//EN
METHOD:PUBLISH
X-PUBLISHED-TTL:P3D
REFRESH-INTERVAL:P3D
CALSCALE:GREGORIAN
BEGIN:VEVENT
DTSTART:20121027T230000Z
DTEND:20121028T010000Z
X-MICROSOFT-CDO-ALLDAYEVENT:FALSE
SUMMARY:Rodan + Fields Big Business Launch Grand Opening
DESCRIPTION:Rodan + Fields \n\nBig Business Launch\n\nGrand Opening!!!\n\n\n\n$5.00 Donation to Susan B. Komen Breast Cancer Research on behalf of all who attend! A $10.00 Donation on behalf of anyone who signs up as a team member! $5.00 Donation on behalf of anyone who becomes a preferred customer
X-ALT-DESC;FMTTYPE=text/html:<strong><span style="font-size: 16px">Rodan + Fields </span><br />\n<span style="font-size: 12px">Big Business Launch</span><br />\n<em>Grand Opening!!!</em></strong><br />\n<br />\n<em>$5.00 Donation to Susan B. Komen Breast Cancer Research&nbsp\;on behalf of&nbsp\;all who attend! A $10.00 Donation&nbsp\;on behalf of anyone who signs up as a team member! $5.00 Donation on behalf of anyone who becomes a preferred customer</em>
LOCATION:231 Minnesota Bend Trail Gadsden\, AL 35901 (256) 393-1400
UID:e.1432.382795
SEQUENCE:3
DTSTAMP:20260423T020223Z
URL:http://business.etowahchamber.org/events/details/rodan-fields-big-business-launch-grand-opening-10-27-2012-382795
END:VEVENT

END:VCALENDAR
