BEGIN:VCALENDAR
VERSION:2.0
PRODID:-//ChamberMaster//Event Calendar 2.0//EN
METHOD:PUBLISH
X-PUBLISHED-TTL:P3D
REFRESH-INTERVAL:P3D
CALSCALE:GREGORIAN
BEGIN:VEVENT
DTSTART:20141016T150000Z
DTEND:20141016T170000Z
X-MICROSOFT-CDO-ALLDAYEVENT:FALSE
SUMMARY:RSVP Quarterly Workshop
DESCRIPTION:This RSVP workshop is all about balance!  Are you dizzy\, unsteady or afraid of falling?  You don't have to live with it!  Representatives from the Tyler Center for Balance Disorders will be here to give you information on dizziness\, balance disorders and falls prevention.  This is a free workshop\, but space is limited.  Please call 256-549-8147 to reserve a space.
X-ALT-DESC;FMTTYPE=text/html:This RSVP workshop is all about balance!&nbsp\; Are you dizzy\, unsteady or afraid of falling?&nbsp\; You don&#39\;t have to live with it!&nbsp\; Representatives from the Tyler Center for Balance Disorders will be here to give you information on dizziness\, balance disorders and falls prevention.&nbsp\; This is a free workshop\, but space is limited.&nbsp\; Please call 256-549-8147 to reserve a space.
LOCATION:Etowah County Courthouse\, 800 Forrest Avenue\, Gadsden\, AL\, in the Community Meeting Room 205
UID:e.1432.384963
SEQUENCE:3
DTSTAMP:20260422T131619Z
URL:http://business.etowahchamber.org/events/details/rsvp-quarterly-workshop-10-16-2014-384963
END:VEVENT

END:VCALENDAR
