BEGIN:VCALENDAR
VERSION:2.0
PRODID:-//ChamberMaster//Event Calendar 2.0//EN
METHOD:PUBLISH
X-PUBLISHED-TTL:P3D
REFRESH-INTERVAL:P3D
CALSCALE:GREGORIAN
BEGIN:VEVENT
DTSTART:20141019T010000Z
DTEND:20141019T040000Z
X-MICROSOFT-CDO-ALLDAYEVENT:FALSE
SUMMARY:Run of the Living Dead 5k
DESCRIPTION:Break out your Halloween costumes early and come dressed to be chased by the zombie hoard through the streets of Gadsden! This will be an evening race benefiting the Theatre of Gadsden and the historical Ritz Theatre. All runners and walkers are welcome. Feel free to bring whatever light sources you want to run with! Registration will begin inside the Ritz at 6 pm 2 hours before the race. We will have an afterparty at the theatre with food\, costume contests\, and a free showing of Night of the Living Dead! Support your local community theatre and come take part in our Halloween festivities!
X-ALT-DESC;FMTTYPE=text/html:Break out your Halloween costumes early and come dressed to be chased by the zombie hoard through the streets of Gadsden! This will be an evening race benefiting the Theatre of Gadsden and the historical Ritz Theatre. All runners and walkers are welcome. Feel free to bring whatever light sources you want to run with! Registration will begin inside the Ritz at 6 pm 2 hours before the race. We will have an afterparty at the theatre with food\, costume contests\, and a free showing of Night of the Living Dead! Support your local community theatre and come take part in our Halloween festivities!
LOCATION:Ritz Theatre 310 Wall Street Gadsden\, AL 35904
UID:e.1432.384930
SEQUENCE:3
DTSTAMP:20260422T132458Z
URL:http://business.etowahchamber.org/events/details/run-of-the-living-dead-5k-10-18-2014-384930
END:VEVENT

END:VCALENDAR
