BEGIN:VCALENDAR
VERSION:2.0
PRODID:-//ChamberMaster//Event Calendar 2.0//EN
METHOD:PUBLISH
X-PUBLISHED-TTL:P3D
REFRESH-INTERVAL:P3D
CALSCALE:GREGORIAN
BEGIN:VEVENT
DTSTART:20120427T160000Z
DTEND:20120427T220000Z
X-MICROSOFT-CDO-ALLDAYEVENT:FALSE
SUMMARY:Rural Metro and LIfeSouth Blood Drive
DESCRIPTION:Join Rural/Metro and LifeSouth for a community blood drive\, Friday April 27th from 11am - 5pm at Glencoe City Hall.  For every donor you will receive a free tshirt\, backpack\, and hotdogs will be served throughout the blood drive.
X-ALT-DESC;FMTTYPE=text/html:Join Rural/Metro and LifeSouth for a community blood drive\, Friday April 27th from 11am - 5pm at Glencoe City Hall.&nbsp\;&nbsp\;For&nbsp\;every donor you will receive a free tshirt\, backpack\, and hotdogs will be served throughout the blood drive.
LOCATION:Glencoe City Hall
UID:e.1432.381460
SEQUENCE:3
DTSTAMP:20260422T165648Z
URL:http://business.etowahchamber.org/events/details/rural-metro-and-lifesouth-blood-drive-04-27-2012-381460
END:VEVENT

END:VCALENDAR
