BEGIN:VCALENDAR
VERSION:2.0
PRODID:-//ChamberMaster//Event Calendar 2.0//EN
METHOD:PUBLISH
X-PUBLISHED-TTL:P3D
REFRESH-INTERVAL:P3D
CALSCALE:GREGORIAN
BEGIN:VEVENT
DTSTART:20120428T160000Z
DTEND:20120428T220000Z
X-MICROSOFT-CDO-ALLDAYEVENT:FALSE
SUMMARY:Rural/Metro and LifeSouth Blood Drive
DESCRIPTION:Join Rural/Metro and LifeSouth for a community blood drive\, Saturday\, April 28th from 11am - 5pm at Moragne Park in Gadsden. For every donor you will receive a free tshirt\, backpack\, and hotdogs will be served throughout the blood drive.Click here to edit...
X-ALT-DESC;FMTTYPE=text/html:<div style="color: gray">\n	Join Rural/Metro and LifeSouth for a community blood drive\,&nbsp\;Saturday\, April 28th from 11am - 5pm at Moragne Park in Gadsden. For every donor you will receive a free tshirt\, backpack\, and hotdogs will be served throughout the blood drive.Click here to edit...</div>\n
LOCATION:Moragne Park in Gadsden
UID:e.1432.381461
SEQUENCE:3
DTSTAMP:20260422T180306Z
URL:http://business.etowahchamber.org/events/details/rural-metro-and-lifesouth-blood-drive-04-28-2012-381461
END:VEVENT

END:VCALENDAR
