BEGIN:VCALENDAR
VERSION:2.0
PRODID:-//ChamberMaster//Event Calendar 2.0//EN
METHOD:PUBLISH
X-PUBLISHED-TTL:P3D
REFRESH-INTERVAL:P3D
CALSCALE:GREGORIAN
BEGIN:VEVENT
DTSTART:20180921T140000Z
DTEND:20180921T170000Z
X-MICROSOFT-CDO-ALLDAYEVENT:FALSE
SUMMARY:Rustik Bucket Vintage Market
DESCRIPTION:Mark your calendars! Rustik Bucket Vintage Market will be held September 21st & 22nd at Ferguson's Wedding Venue and Courtyard\, Downtown Attalla.\n\n\n\nHosting over 40 artisans. Choose from vintage\, farmhouse\, rustic\, antiques\, repurposed\, holiday\, jewelry\, boutique\, and furniture. Food. Free parking.\n\n\n\nTickets for early pickin' Friday\, 9am to noon $10\, Afternoon and Saturday pickin' $5.
X-ALT-DESC;FMTTYPE=text/html:<span style="font-size:16px\;"><span style="font-family:arial\;"><span style="color: rgb(29\, 33\, 41)\; background-color: rgba(221\, 221\, 221\, 0.3)\;">Mark your calendars! Rustik Bucket Vintage Market will be held September 21st &amp\; 22nd at Ferguson&#39\;s Wedding Venue and Courtyard\, Downtown Attalla.<br />\n<br />\nHosting over 40 artisans. Choose from vintage\, farmhouse\, rustic\, antiques\, repurposed\, holiday\, jewelry\, boutique\, and furniture. Food. Free parking.<br />\n<br />\nTickets for early pickin&#39\; Friday\, 9am to noon $10\, Afternoon and Saturday pickin&#39\; $5.</span></span></span>
LOCATION:401 5th Avenue Northwest Attalla\, AL 35954
UID:e.1432.398098
SEQUENCE:3
DTSTAMP:20260422T204501Z
URL:http://business.etowahchamber.org/events/details/rustik-bucket-vintage-market-398098
END:VEVENT

END:VCALENDAR
