BEGIN:VCALENDAR
VERSION:2.0
PRODID:-//ChamberMaster//Event Calendar 2.0//EN
METHOD:PUBLISH
X-PUBLISHED-TTL:P3D
REFRESH-INTERVAL:P3D
CALSCALE:GREGORIAN
BEGIN:VEVENT
DTSTART:20121201T180000Z
DTEND:20121201T200000Z
X-MICROSOFT-CDO-ALLDAYEVENT:FALSE
SUMMARY:Santa is coming to Southside Pharmacy and The Glass House
DESCRIPTION:Santa is coming to Southside Pharmacy and The Glass House on Saturday\, December 1st from noon to 2pm!  Have your picture made with Santa!!!  Tell him what you want and prove you've been good this year!
X-ALT-DESC;FMTTYPE=text/html:Santa is coming to Southside Pharmacy and The Glass House on Saturday\, December 1st from noon to 2pm! &nbsp\;Have your picture made with Santa!!! &nbsp\;Tell him what you want and prove you&#39\;ve been good this year!
LOCATION:1250 HWY 77 in Southside (Formerly Lawley Drug)
UID:e.1432.382870
SEQUENCE:3
DTSTAMP:20260423T033707Z
URL:http://business.etowahchamber.org/events/details/santa-is-coming-to-southside-pharmacy-and-the-glass-house-12-01-2012-382870
END:VEVENT

END:VCALENDAR
