BEGIN:VCALENDAR
VERSION:2.0
PRODID:-//ChamberMaster//Event Calendar 2.0//EN
METHOD:PUBLISH
X-PUBLISHED-TTL:P3D
REFRESH-INTERVAL:P3D
CALSCALE:GREGORIAN
BEGIN:VEVENT
DTSTART;VALUE=DATE:20141205
DTEND;VALUE=DATE:20141206
TRANSP:TRANSPARENT
X-MICROSOFT-CDO-ALLDAYEVENT:TRUE
SUMMARY:Santa Stroll/Gadsden Tree Lighting@ City Hall
DESCRIPTION:
X-ALT-DESC;FMTTYPE=text/html:
LOCATION:
UID:e.1432.384322
SEQUENCE:3
DTSTAMP:20260422T105250Z
URL:http://business.etowahchamber.org/events/details/santa-stroll-gadsden-tree-lighting-city-hall-12-05-2014-384322
END:VEVENT

END:VCALENDAR
