BEGIN:VCALENDAR
VERSION:2.0
PRODID:-//ChamberMaster//Event Calendar 2.0//EN
METHOD:PUBLISH
X-PUBLISHED-TTL:P3D
REFRESH-INTERVAL:P3D
CALSCALE:GREGORIAN
BEGIN:VEVENT
DTSTART:20120816T210000Z
DTEND:20120817T000000Z
X-MICROSOFT-CDO-ALLDAYEVENT:FALSE
SUMMARY:Sarrell Dental - 2nd Annual Back to School Bash
DESCRIPTION:2nd Annual Back to School Bash...Thursday\, August 16\, 2012 at the Elliott Community Center in Gadsden from 4:00PM - 7:00PM. \n\n\n\nAt the Back to School Bash we will be offering free health screenings\, educational/ community information and giving out door prizes and school supplies. \n\n\n\nWe are asking our community organizations and businesses for their help in putting on this event. Currently we are in need of volunteer nurses who can help with the screenings\, organizations who would like to set up a table and give out their information and anyone who can donate school supplies for us to give to the families at the event. \n\n\n\nBelk\, in our Gadsden Mall\, is donating two gift baskets\, one male and one female\, each of $100 value\, to be raffled off for school supplies. For every $5.00 you donate or $5.00 in school supplies we will enter you into our drawing to win the gift baskets. \n\nWe are asking our community to rally together so we may provide under served families with the basic needs to prepare for a new school year. \n\nANYONE who is interested in participating in ANY way please contact me at (770) 639-2057 or squinn@sarrelldental.org. If you are wanting to donate anything to our school drive and be entered in our drawing you can either drop it off at our Attalla location at 404 4th Street NW\, Attalla or call me and I would be more than happy to stop by and pick it up.\n\nThank you all for your support and I look forward to hearing from you.\n\n \n\n                                                                                                                           \n\nSummer Quinn\n\nCommunity Outreach Manager
X-ALT-DESC;FMTTYPE=text/html:<span style="font-family:arial\,sans-serif\;">2<span id="yiv2007501371misspell-0">nd</span></span> Annual Back to School Bash...Thursday\, August 16\, 2012 at the Elliott Community Center in Gadsden from 4:00PM - 7:00PM.&nbsp\;<br />\n<br />\n<span style="font-family:arial\,sans-serif\;">At the Back to School Bash we will be offering free health screenings\, educational/ community information and giving out door prizes and school supplies. </span><br />\n<br />\n<span style="font-family:arial\,sans-serif\;">We are asking our community organizations and businesses for their help in putting on this event. Currently we are in need of volunteer nurses who can help with the screenings\, organizations who would like to set up a table and give out their information and anyone who can donate school supplies for us to give to the families at the event. </span><br />\n<br />\n<span style="font-family:arial\,sans-serif\;">Belk</span><span style="font-family:arial\,sans-serif\;">\, in our Gadsden Mall\, is donating two gift baskets\, one male and one female\, each of $100 value\, to be raffled off for school supplies. For every $5.00 you donate or $5.00 in school supplies we will enter you into our drawing to win the gift baskets. </span><br />\n<span style="font-family:arial\,sans-serif\;">We are asking our community to <span id="yiv2007501371misspell-2">rally</span> together so we may provide <span id="yiv2007501371misspell-3">under served</span> families with the basic needs to prepare for a new school year. </span><br />\n<span style="font-family:arial\,sans-serif\;">ANYONE who is interested in participating in ANY way please contact me at (770) 639-2057 or <a href="mailto:squinn@sarrelldental.org" target="_blank" ymailto="mailto:squinn@sarrelldental.org"><span style="color:#234786\;">squinn@sarrelldental.org</span></a></span>. If you are wanting to donate anything to our school drive and be entered in our drawing you can either drop it off at our <span id="yiv2007501371misspell-4">Attalla</span> location at 404 4<span id="yiv2007501371misspell-5">th</span> Street NW\, <span id="yiv2007501371misspell-6">Attalla</span> or call me and I would be more than happy to stop by and pick it up.<br />\n<span style="font-family:arial\,sans-serif\;">Thank you all for your support and I look forward to hearing from you.</span><br />\n&nbsp\;<br />\n&nbsp\;&nbsp\; &nbsp\; &nbsp\; &nbsp\; &nbsp\; &nbsp\; &nbsp\; &nbsp\; &nbsp\; &nbsp\; &nbsp\; &nbsp\; &nbsp\; &nbsp\; &nbsp\; &nbsp\; &nbsp\; &nbsp\; &nbsp\; &nbsp\; &nbsp\; &nbsp\; &nbsp\; &nbsp\; &nbsp\; &nbsp\; &nbsp\; &nbsp\; &nbsp\; &nbsp\; &nbsp\; &nbsp\; &nbsp\; &nbsp\; &nbsp\; &nbsp\; &nbsp\; &nbsp\; &nbsp\; &nbsp\; &nbsp\; &nbsp\; &nbsp\; &nbsp\; &nbsp\; &nbsp\; &nbsp\; &nbsp\; &nbsp\; &nbsp\; &nbsp\; &nbsp\; &nbsp\; &nbsp\; &nbsp\; &nbsp\; &nbsp\; &nbsp\; &nbsp\; &nbsp\; &nbsp\;&nbsp\;<br />\n<strong><span style="font-family:arial\,sans-serif\;">Summer Quinn</span></strong><br />\n<span style="font-family:arial\,sans-serif\;">Community Outreach Manager</span><br />\n
LOCATION:Elliott Community Center\, Gadsden
UID:e.1432.381549
SEQUENCE:3
DTSTAMP:20260422T214846Z
URL:http://business.etowahchamber.org/events/details/sarrell-dental-2nd-annual-back-to-school-bash-08-16-2012-381549
END:VEVENT

END:VCALENDAR
