BEGIN:VCALENDAR
VERSION:2.0
PRODID:-//ChamberMaster//Event Calendar 2.0//EN
METHOD:PUBLISH
X-PUBLISHED-TTL:P3D
REFRESH-INTERVAL:P3D
CALSCALE:GREGORIAN
BEGIN:VEVENT
DTSTART:20140412T220000Z
DTEND:20140413T000000Z
X-MICROSOFT-CDO-ALLDAYEVENT:FALSE
SUMMARY:Sarrell Dental Center will be Offering Free Pictures with the Easter Bunny
DESCRIPTION:Join Sarrell Dental Center at Attalla's Second Saturday Event on Saturday\, April 12 from 5-7 for FREE photos with the Easter Bunny!
X-ALT-DESC;FMTTYPE=text/html:Join Sarrell Dental Center at Attalla&#39\;s Second Saturday Event on Saturday\, April 12 from 5-7 for FREE photos with the Easter Bunny!&nbsp\;
LOCATION:Sarrell Dental Center 404 4th St NW Attalla\, AL
UID:e.1432.384427
SEQUENCE:3
DTSTAMP:20260422T211039Z
URL:http://business.etowahchamber.org/events/details/sarrell-dental-center-will-be-offering-free-pictures-with-the-easter-bunny-04-12-2014-384427
END:VEVENT

END:VCALENDAR
