BEGIN:VCALENDAR
VERSION:2.0
PRODID:-//ChamberMaster//Event Calendar 2.0//EN
METHOD:PUBLISH
X-PUBLISHED-TTL:P3D
REFRESH-INTERVAL:P3D
CALSCALE:GREGORIAN
BEGIN:VEVENT
DTSTART;VALUE=DATE:20141026
DTEND;VALUE=DATE:20141027
TRANSP:TRANSPARENT
X-MICROSOFT-CDO-ALLDAYEVENT:TRUE
SUMMARY:Second Hand Grace Festival
DESCRIPTION:Second Hand Grace Gospel Music Festival
X-ALT-DESC;FMTTYPE=text/html:Second Hand Grace Gospel Music Festival
LOCATION:Etowah County Fairgrounds
UID:e.1432.384947
SEQUENCE:3
DTSTAMP:20260422T132012Z
URL:http://business.etowahchamber.org/events/details/second-hand-grace-festival-10-26-2014-384947
END:VEVENT

END:VCALENDAR
