BEGIN:VCALENDAR
VERSION:2.0
PRODID:-//ChamberMaster//Event Calendar 2.0//EN
METHOD:PUBLISH
X-PUBLISHED-TTL:P3D
REFRESH-INTERVAL:P3D
CALSCALE:GREGORIAN
BEGIN:VEVENT
DTSTART:20130810T230000Z
DTEND:20130811T020000Z
X-MICROSOFT-CDO-ALLDAYEVENT:FALSE
SUMMARY:Second Saturday in Attalla
DESCRIPTION:Join the City of Attalla for Second Saturday\, August 10th!  Enjoy live entertainment\, car show\, vendors\, and shop and save with all the local merchant deals!  FREE ADMISSION!!!  Bring the whole family and enjoy the downtown festivities!
X-ALT-DESC;FMTTYPE=text/html:Join the City of Attalla for Second Saturday\, August 10th! &nbsp\;Enjoy live entertainment\, car show\, vendors\, and shop and save with all the local merchant deals! &nbsp\;FREE ADMISSION!!! &nbsp\;Bring the whole family and enjoy the downtown festivities!
LOCATION:Downtown Attalla
UID:e.1432.383932
SEQUENCE:3
DTSTAMP:20260423T075224Z
URL:http://business.etowahchamber.org/events/details/second-saturday-in-attalla-08-10-2013-383932
END:VEVENT

END:VCALENDAR
