BEGIN:VCALENDAR
VERSION:2.0
PRODID:-//ChamberMaster//Event Calendar 2.0//EN
METHOD:PUBLISH
X-PUBLISHED-TTL:P3D
REFRESH-INTERVAL:P3D
CALSCALE:GREGORIAN
BEGIN:VEVENT
DTSTART:20190531T233000Z
DTEND:20190601T020000Z
X-MICROSOFT-CDO-ALLDAYEVENT:FALSE
SUMMARY:Senior(50+) Dance at Downtown Civic Center
DESCRIPTION:If you're an active adult\, come dance and enjoy every Friday evening inside the Downtown Civic Center. The Outlaw Band will be playing songs to have everyone wanting to line dance\, 2 step\, or just sway the night away. An age requirement of 50+ years old to attend this dance.
X-ALT-DESC;FMTTYPE=text/html:<span style="font-size:16px\;"><span style="font-family:arial\;"><span style="color: rgb(29\, 33\, 41)\; white-space: pre-wrap\;">If you&#39\;re an active adult\, come dance and enjoy every Friday evening inside the Downtown Civic Center. The Outlaw Band will be playing songs to have everyone wanting to line dance\, 2 step\, or just sway the night away. An age requirement of 50+ years old to attend this dance.</span></span></span>
LOCATION:Downtown Civic Center 623 Broad Street Gadsden\, AL 35901
UID:e.1432.401043
SEQUENCE:3
DTSTAMP:20260422T072655Z
URL:http://business.etowahchamber.org/events/details/senior-dance-at-downtown-civic-center-05-31-2019-401043
END:VEVENT

END:VCALENDAR
