BEGIN:VCALENDAR
VERSION:2.0
PRODID:-//ChamberMaster//Event Calendar 2.0//EN
METHOD:PUBLISH
X-PUBLISHED-TTL:P3D
REFRESH-INTERVAL:P3D
CALSCALE:GREGORIAN
BEGIN:VEVENT
DTSTART:20201029T200000Z
DTEND:20201029T230000Z
X-MICROSOFT-CDO-ALLDAYEVENT:FALSE
SUMMARY:Sensory Friendly Trick-or-Treat at Alabama Pediatric Therapy Services
DESCRIPTION:Please join us for a Sensory Friendly Trick-or-Treat experience! We are booking appointments for patients that are medically fragile.\n\n	Adults must wear a mask\n	This event is open to the community
X-ALT-DESC;FMTTYPE=text/html:<span style="font-size:16px\;"><span style="font-family:arial\;">Please join us for a Sensory Friendly Trick-or-Treat experience! We are booking appointments for patients that are medically fragile.</span></span>\n<ul>\n	<li><span style="font-size:16px\;"><span style="font-family:arial\;">Adults must wear a mask</span></span></li>\n	<li><span style="font-size:16px\;"><span style="font-family:arial\;"><span style="font-size:16px\;"><span style="font-family:arial\;">This event is open to the community</span></span></span></span></li>\n</ul>\n
LOCATION:Alabama Pediatric Therapy Services- Rainbow City Location
UID:e.1432.403495
SEQUENCE:3
DTSTAMP:20260421T081858Z
URL:http://business.etowahchamber.org/events/details/sensory-friendly-trick-or-treat-at-alabama-pediatric-therapy-services-403495
END:VEVENT

END:VCALENDAR
