BEGIN:VCALENDAR
VERSION:2.0
PRODID:-//ChamberMaster//Event Calendar 2.0//EN
METHOD:PUBLISH
X-PUBLISHED-TTL:P3D
REFRESH-INTERVAL:P3D
CALSCALE:GREGORIAN
BEGIN:VEVENT
DTSTART:20191029T213000Z
DTEND:20191029T233000Z
X-MICROSOFT-CDO-ALLDAYEVENT:FALSE
SUMMARY:Sensory-Friendly Trick or Treating at Alabama Pediatric Therapy Services
DESCRIPTION:Join us for our 1st annual Sensory-Friendly Trick or Treating! Our environment will be sensory-friendly (low lights\, low music\, trained therapist in friendly costumes\, accommodative tools available)\, we will have light refreshments\, and non-candy options for "treats".\n\n\n\nCostumes are welcome\, but not required. Children of ALL ABILITIES WELCOME! This event is open all children\, patients and non-patients.
X-ALT-DESC;FMTTYPE=text/html:<span style="font-size:16px\;"><span style="font-family:arial\;">Join us for our 1st annual&nbsp\;Sensory-Friendly Trick or Treating!&nbsp\;Our environment will be sensory-friendly (low lights\, low music\, trained therapist in friendly costumes\, accommodative tools available)\, we will have light refreshments\, and non-candy options for &quot\;treats&quot\;.<br />\n<br />\nCostumes are welcome\, but not required. Children of ALL ABILITIES WELCOME! This event is open all children\, patients and non-patients.</span></span>
LOCATION:Alabama Pediatric Therapy Services
UID:e.1432.401519
SEQUENCE:3
DTSTAMP:20260422T083623Z
URL:http://business.etowahchamber.org/events/details/sensory-friendly-trick-or-treating-at-alabama-pediatric-therapy-services-401519
END:VEVENT

END:VCALENDAR
