BEGIN:VCALENDAR
VERSION:2.0
PRODID:-//ChamberMaster//Event Calendar 2.0//EN
METHOD:PUBLISH
X-PUBLISHED-TTL:P3D
REFRESH-INTERVAL:P3D
CALSCALE:GREGORIAN
BEGIN:VEVENT
DTSTART:20121117T160000Z
DTEND:20121117T173000Z
X-MICROSOFT-CDO-ALLDAYEVENT:FALSE
SUMMARY:Seraaj Family Homes\, Inc - Zumbathon
DESCRIPTION:Seraaj Family Homes\, Inc is hosting a Zumbathon on Saturday\, November 17th at the Gadsden Coliseum\, 1420 West Meighan Blvd\, Gadsden\, AL.  Door Open at 9:30am.  $10 Minimum Donation.
X-ALT-DESC;FMTTYPE=text/html:Seraaj Family Homes\, Inc is hosting a Zumbathon on Saturday\, November 17th at the Gadsden Coliseum\, 1420 West Meighan Blvd\, Gadsden\, AL. &nbsp\;Door Open at 9:30am. &nbsp\;$10 Minimum Donation.
LOCATION:Gadsden Coliseum - 1420 West Meighan Blvd\, Gadsden\, Alabama.
UID:e.1432.382777
SEQUENCE:3
DTSTAMP:20260423T020511Z
URL:http://business.etowahchamber.org/events/details/seraaj-family-homes-inc-zumbathon-11-17-2012-382777
END:VEVENT

END:VCALENDAR
