BEGIN:VCALENDAR
VERSION:2.0
PRODID:-//ChamberMaster//Event Calendar 2.0//EN
METHOD:PUBLISH
X-PUBLISHED-TTL:P3D
REFRESH-INTERVAL:P3D
CALSCALE:GREGORIAN
BEGIN:VEVENT
DTSTART:20201013T140000Z
DTEND:20201013T220000Z
X-MICROSOFT-CDO-ALLDAYEVENT:FALSE
SUMMARY:Shepherd's Cove Thrift Shoppe "Holiday Shoppe" Opening
DESCRIPTION:Starting October 13th at 9:00 AM\, the Holiday Shoppe if back at Shepherd's Cove Thrift Shoppe! The "Holiday Shoppe" is a special section within our Thrift Shoppe that is stocked full of all things Christmas.
X-ALT-DESC;FMTTYPE=text/html:<span style="font-size:16px\;"><span style="font-family:arial\;">Starting October 13th at 9:00 AM\, the Holiday Shoppe if back at&nbsp\;Shepherd&#39\;s Cove Thrift Shoppe! The &quot\;Holiday Shoppe&quot\; is a special section within our Thrift Shoppe that is stocked full of all things Christmas.&nbsp\;</span></span>
LOCATION:Shepherd's Cove Thrift Shoppe
UID:e.1432.403445
SEQUENCE:3
DTSTAMP:20260421T081717Z
URL:http://business.etowahchamber.org/events/details/shepherd-s-cove-thrift-shoppe-holiday-shoppe-opening-403445
END:VEVENT

END:VCALENDAR
