BEGIN:VCALENDAR
VERSION:2.0
PRODID:-//ChamberMaster//Event Calendar 2.0//EN
METHOD:PUBLISH
X-PUBLISHED-TTL:P3D
REFRESH-INTERVAL:P3D
CALSCALE:GREGORIAN
BEGIN:VEVENT
DTSTART;VALUE=DATE:20120831
DTEND;VALUE=DATE:20120907
TRANSP:TRANSPARENT
X-MICROSOFT-CDO-ALLDAYEVENT:TRUE
SUMMARY:Showtimes
DESCRIPTION:NEW THIS WEEK!\n\nLAWLESS (OPENS WED 8/29)\n\nOOGIELOVES IN THE BIG BALLOON (OPENS WED 8/29)\n\n2016: OBAMA'S AMERICA (STARTS FRI 8/31)\n\nTHE POSSESSION (STARTS FRI 8/31)\n\n\n\n\n\nFRIDAY 08/31/2012 - THURSDAY 09/06/2012\n\n*2016: OBAMA'S AMERICA\n\n 12:00p     2:15p     4:35p     6:55p     9:15p\n\n*3D PARANORMAN\n\n 4:55p\n\n*HIT AND RUN\n\n 12:00p     2:30p     5:00p     7:30p     10:00p\n\n*HOPE SPRINGS\n\n 12:00p     2:25p     4:50p     7:15p     9:45p\n\n*LAWLESS\n\n 12:30p     3:30p     6:30p     9:30p\n\n*PREMIUM RUSH\n\n 12:05p     2:25p     4:45p     7:05p     9:35p\n\n*SPARKLE\n\n 12:15p     3:05p     6:05p     9:30p\n\n*THE OOGIELOVES IN THE BIG BALLOON\n\n 12:05p     2:15p     4:25p     6:35p     8:45p\n\n*THE POSSESSION\n\n 12:00p     2:20p     4:40p     7:05p     9:40p\n\n*THUNDERSTRUCK\n\n 12:05p     2:30p\n\n2D BRAVE    PG\n\n 12:10p     2:40p     5:15p\n\n2D PARANORMAN    PG\n\n 12:00p     2:25p     7:25p     10:00p\n\n2D THE AVENGERS    PG13\n\n 7:45p\n\nDIARY OF A WIMPY KID: DOG DAYS\n\n 5:00p     7:25p     9:55p\n\nTHE BOURNE LEGACY    PG13\n\n 12:10p     3:15p     6:20p     9:25p\n\nTHE CAMPAIGN    R\n\n 12:30p     2:55p     5:15p     7:40p     9:55p\n\nTHE DARK KNIGHT RISES    PG13\n\n 12:45p     4:20p     8:00p\n\nTHE EXPENDABLES 2    R\n\n 12:00p     2:30p     5:00p     7:30p     10:00p\n\nTHE ODD LIFE OF TIMOTHY GREEN\n\n 12:00p     2:30p     5:00p     7:30p     10:00p
X-ALT-DESC;FMTTYPE=text/html:<font color="#3F3151" face="Arial" size="3" style="font-size:12pt"><b><u>NEW THIS WEEK!</u><br />\nLAWLESS (OPENS WED 8/29)<br />\nOOGIELOVES IN THE BIG BALLOON (OPENS WED 8/29)<br />\n2016: OBAMA&#39\;S AMERICA (STARTS FRI 8/31)<br />\nTHE POSSESSION (STARTS FRI 8/31)</b><br />\n<br />\n<br />\n<u><b>FRIDAY 08/31/2012 - THURSDAY 09/06/2012</b></u><br />\n*2016: OBAMA&#39\;S AMERICA<br />\n&nbsp\;12:00p&nbsp\;&nbsp\;&nbsp\; &nbsp\;2:15p&nbsp\;&nbsp\;&nbsp\; &nbsp\;4:35p&nbsp\;&nbsp\;&nbsp\; &nbsp\;6:55p&nbsp\;&nbsp\;&nbsp\; &nbsp\;9:15p<br />\n*3D PARANORMAN<br />\n&nbsp\;4:55p<br />\n*HIT AND RUN<br />\n&nbsp\;12:00p&nbsp\;&nbsp\;&nbsp\; &nbsp\;2:30p&nbsp\;&nbsp\;&nbsp\; &nbsp\;5:00p&nbsp\;&nbsp\;&nbsp\; &nbsp\;7:30p&nbsp\;&nbsp\;&nbsp\; &nbsp\;10:00p<br />\n*HOPE SPRINGS<br />\n&nbsp\;12:00p&nbsp\;&nbsp\;&nbsp\; &nbsp\;2:25p&nbsp\;&nbsp\;&nbsp\; &nbsp\;4:50p&nbsp\;&nbsp\;&nbsp\; &nbsp\;7:15p&nbsp\;&nbsp\;&nbsp\; &nbsp\;9:45p<br />\n*LAWLESS<br />\n&nbsp\;12:30p&nbsp\;&nbsp\;&nbsp\; &nbsp\;3:30p&nbsp\;&nbsp\;&nbsp\; &nbsp\;6:30p&nbsp\;&nbsp\;&nbsp\; &nbsp\;9:30p<br />\n*PREMIUM RUSH<br />\n&nbsp\;12:05p&nbsp\;&nbsp\;&nbsp\; &nbsp\;2:25p&nbsp\;&nbsp\;&nbsp\; &nbsp\;4:45p&nbsp\;&nbsp\;&nbsp\; &nbsp\;7:05p&nbsp\;&nbsp\;&nbsp\; &nbsp\;9:35p<br />\n*SPARKLE<br />\n&nbsp\;12:15p&nbsp\;&nbsp\;&nbsp\; &nbsp\;3:05p&nbsp\;&nbsp\;&nbsp\; &nbsp\;6:05p&nbsp\;&nbsp\;&nbsp\; &nbsp\;9:30p<br />\n*THE OOGIELOVES IN THE BIG BALLOON<br />\n&nbsp\;12:05p&nbsp\;&nbsp\;&nbsp\; &nbsp\;2:15p&nbsp\;&nbsp\;&nbsp\; &nbsp\;4:25p&nbsp\;&nbsp\;&nbsp\; &nbsp\;6:35p&nbsp\;&nbsp\;&nbsp\; &nbsp\;8:45p<br />\n*THE POSSESSION<br />\n&nbsp\;12:00p&nbsp\;&nbsp\;&nbsp\; &nbsp\;2:20p&nbsp\;&nbsp\;&nbsp\; &nbsp\;4:40p&nbsp\;&nbsp\;&nbsp\; &nbsp\;7:05p&nbsp\;&nbsp\;&nbsp\; &nbsp\;9:40p<br />\n*THUNDERSTRUCK<br />\n&nbsp\;12:05p&nbsp\;&nbsp\;&nbsp\; &nbsp\;2:30p<br />\n2D BRAVE&nbsp\;&nbsp\;&nbsp\; PG<br />\n&nbsp\;12:10p&nbsp\;&nbsp\;&nbsp\; &nbsp\;2:40p&nbsp\;&nbsp\;&nbsp\; &nbsp\;5:15p<br />\n2D PARANORMAN&nbsp\;&nbsp\;&nbsp\; PG<br />\n&nbsp\;12:00p&nbsp\;&nbsp\;&nbsp\; &nbsp\;2:25p&nbsp\;&nbsp\;&nbsp\;&nbsp\; 7:25p&nbsp\;&nbsp\;&nbsp\;&nbsp\; 10:00p<br />\n2D THE AVENGERS&nbsp\;&nbsp\;&nbsp\; PG13<br />\n&nbsp\;7:45p<br />\nDIARY OF A WIMPY KID: DOG DAYS<br />\n&nbsp\;5:00p&nbsp\;&nbsp\;&nbsp\; &nbsp\;7:25p&nbsp\;&nbsp\;&nbsp\; &nbsp\;9:55p<br />\nTHE BOURNE LEGACY&nbsp\;&nbsp\;&nbsp\; PG13<br />\n&nbsp\;12:10p&nbsp\;&nbsp\;&nbsp\; &nbsp\;3:15p&nbsp\;&nbsp\;&nbsp\; &nbsp\;6:20p&nbsp\;&nbsp\;&nbsp\; &nbsp\;9:25p<br />\nTHE CAMPAIGN&nbsp\;&nbsp\;&nbsp\; R<br />\n&nbsp\;12:30p&nbsp\;&nbsp\;&nbsp\; &nbsp\;2:55p&nbsp\;&nbsp\;&nbsp\; &nbsp\;5:15p&nbsp\;&nbsp\;&nbsp\;&nbsp\; 7:40p&nbsp\;&nbsp\;&nbsp\;&nbsp\; 9:55p<br />\nTHE DARK KNIGHT RISES&nbsp\;&nbsp\;&nbsp\; PG13<br />\n&nbsp\;12:45p&nbsp\;&nbsp\;&nbsp\; &nbsp\;4:20p&nbsp\;&nbsp\;&nbsp\; &nbsp\;8:00p<br />\nTHE EXPENDABLES 2&nbsp\;&nbsp\;&nbsp\; R<br />\n&nbsp\;12:00p&nbsp\;&nbsp\;&nbsp\; &nbsp\;2:30p&nbsp\;&nbsp\;&nbsp\; &nbsp\;5:00p&nbsp\;&nbsp\;&nbsp\; &nbsp\;7:30p&nbsp\;&nbsp\;&nbsp\; &nbsp\;10:00p<br />\nTHE ODD LIFE OF TIMOTHY GREEN<br />\n&nbsp\;12:00p&nbsp\;&nbsp\;&nbsp\; &nbsp\;2:30p&nbsp\;&nbsp\;&nbsp\; &nbsp\;5:00p&nbsp\;&nbsp\;&nbsp\; &nbsp\;7:30p&nbsp\;&nbsp\;&nbsp\; &nbsp\;10:00p</font>
LOCATION:GADSDEN PREMIERE CINEMA 16
UID:e.1432.381915
SEQUENCE:3
DTSTAMP:20260422T215306Z
URL:http://business.etowahchamber.org/events/details/showtimes-08-31-2012-381915
END:VEVENT

END:VCALENDAR
