BEGIN:VCALENDAR
VERSION:2.0
PRODID:-//ChamberMaster//Event Calendar 2.0//EN
METHOD:PUBLISH
X-PUBLISHED-TTL:P3D
REFRESH-INTERVAL:P3D
CALSCALE:GREGORIAN
BEGIN:VEVENT
DTSTART;VALUE=DATE:20130412
DTEND;VALUE=DATE:20130414
TRANSP:TRANSPARENT
X-MICROSOFT-CDO-ALLDAYEVENT:TRUE
SUMMARY:Smoke on the Falls
DESCRIPTION:Friday\, April 12th Gates open 5?]9pm\n\n	\n\n	Entry Fee: FREE!!!! Join us for the Friday Night Jam\,\n\n	Open Mic\, Pickin' and Grinnin' (Bring yourown Instruments)\n\n	Saturday\, April 13th Gates open 10am?]5pm\n\n	Entry: $10.00 for ages 13 & up $5.00 for ages 4?]12\n\n	Ages 3 & under FREE Entry Includes: 1 round of Mini Golf\,\n\n	Free BBQ Sandwich\, Kids Fun Area\, Park Entry\n\n	(train ride\, petting zoo\, pioneer village)\, and\n\n	Live Music\n\n	Cushions and Coolers are welcome!!!\n\n	More Details coming soon!!!\n\n	Enter Your Team BACKYARD ENTRY ?] $150.00\n\n	Professional Entry ?] $300.00\n\n	Over $10\,000.00 in cash and prizes!!\n\n	Call 256?]549?]4663 (to enter or for additional information)
X-ALT-DESC;FMTTYPE=text/html:<p align="LEFT">\n	<span style="font-size: 12px\;"><b><font face="Calibri-Bold"><font face="Calibri-Bold">Friday\, April 12th Gates open </font></font></b></span><span style="font-size: 12px\;"><b><font face="Calibri-Bold"><font face="Calibri-Bold">5</font></font></b></span><span style="font-size: 12px\;"><b><b><font face="Calibri-Bold"><font face="Calibri-Bold">?]</font></font><font face="Calibri-Bold"><font face="Calibri-Bold">9pm</font></font></b></b></span><br />\n	<br />\n	<span style="font-size: 12px\;"><b><font face="Calibri-Bold"><font face="Calibri-Bold">Entry Fee</font></font></b></span><span style="font-size: 12px\;"><b><font face="Calibri-Bold"><font face="Calibri-Bold">: FREE!!!! Join us for the Friday Night Jam\,</font></font></b></span></p>\n<p align="LEFT">\n	<span style="font-size: 12px\;"><b><font face="Calibri-Bold"><font face="Calibri-Bold">Open Mic\, Pickin&#39\; and Grinnin&#39\; (Bring </font></font></b></span><span style="font-size: 12px\;"><b><font face="Calibri-Bold"><font face="Calibri-Bold">your</font></font></b></span><span style="font-size: 12px\;"><b><font face="Calibri-Bold"><font face="Calibri-Bold">own</font></font></b></span><span style="font-size: 12px\;"><b><font face="Calibri-Bold"><font face="Calibri-Bold"> Instruments)</font></font></b></span></p>\n<p align="LEFT">\n	<span style="font-size: 12px\;"><b><font face="Calibri-Bold"><font face="Calibri-Bold">Saturday\, April 13th Gates open </font></font></b></span><span style="font-size: 12px\;"><b><font face="Calibri-Bold"><font face="Calibri-Bold">10am</font></font></b></span><b><span style="font-size: 12px\;"><b><font face="Calibri-Bold"><font face="Calibri-Bold">?]</font></font></b></span></b><b><span style="font-size: 12px\;"><b><font face="Calibri-Bold"><font face="Calibri-Bold">5p</font></font></b></span></b><b><span style="font-size: 12px\;"><b><font face="Calibri-Bold"><font face="Calibri-Bold">m</font></font></b></span></b></p>\n<p align="LEFT">\n	<span style="font-size: 12px\;"><b><font face="Calibri-Bold"><font face="Calibri-Bold">Entry: $10.00 for ages 13 &amp\; up $5.00 for ages </font></font></b></span><span style="font-size: 12px\;"><b><font face="Calibri-Bold"><font face="Calibri-Bold">4</font></font></b></span><span style="font-size: 12px\;"><b><b><font face="Calibri-Bold"><font face="Calibri-Bold">?]</font></font><font face="Calibri-Bold"><font face="Calibri-Bold">12</font></font></b></b></span><br />\n	<span style="font-size: 12px\;"><b><font face="Calibri-Bold"><font face="Calibri-Bold">Ages 3 &amp\; under </font></font></b></span><span style="font-size: 12px\;"><b><font face="Calibri-Bold"><font face="Calibri-Bold">FREE Entry Includes: 1 round of Mini Golf\,</font></font></b></span></p>\n<p align="LEFT">\n	<span style="font-size: 12px\;"><b><font face="Calibri-Bold"><font face="Calibri-Bold">Free BBQ Sandwich\, Kids Fun Area\, Park Entry</font></font></b></span><br />\n	<span style="font-size: 12px\;"><b><font face="Calibri-Bold"><font face="Calibri-Bold">(train ride\, petting zoo\, pioneer village)\, and</font></font></b></span></p>\n<p align="LEFT">\n	<span style="font-size: 12px\;"><b><font face="Calibri-Bold"><font face="Calibri-Bold">Live Music</font></font></b></span></p>\n<p align="LEFT">\n	<span style="font-size: 12px\;"><b><font face="Calibri-Bold"><font face="Calibri-Bold">Cushions and Coolers are welcome!!!</font></font></b></span></p>\n<p align="LEFT">\n	<span style="font-size: 12px\;"><b><font face="Calibri-Bold"><font face="Calibri-Bold">More Details coming soon!!!</font></font></b></span></p>\n<p align="LEFT">\n	<span style="font-size: 12px\;"><b><font face="Calibri-Bold"><font face="Calibri-Bold">Enter Your Team BACKYARD ENTRY </font></font></b></span><span style="font-size: 12px\;"><b><font face="Calibri-Bold"><font face="Calibri-Bold">?] </font></font><font face="Calibri-Bold"><font face="Calibri-Bold">$150.00</font></font></b></span></p>\n<p align="LEFT">\n	<span style="font-size: 12px\;"><b><font face="Calibri-Bold"><font face="Calibri-Bold">Professional Entry </font></font></b></span><span style="font-size: 12px\;"><b><font face="Calibri-Bold"><font face="Calibri-Bold">?] </font></font><font face="Calibri-Bold"><font face="Calibri-Bold">$300.00</font></font></b></span></p>\n<p align="LEFT">\n	<span style="font-size: 12px\;"><font color="#ff0300" face="BernardMT-Condensed"><font color="#ff0300" face="BernardMT-Condensed"><font color="#ff0300" face="BernardMT-Condensed">Over $10\,000.00 in cash and prizes!!</font></font></font></span></p>\n<p>\n	<span style="font-size: 12px\;"><b><font face="Calibri-Bold"><font face="Calibri-Bold">Call 256</font></font></b></span><span style="font-size: 12px\;"><b><b><font face="Calibri-Bold"><font face="Calibri-Bold">?]</font></font><font face="Calibri-Bold"><font face="Calibri-Bold">549</font></font><font face="Calibri-Bold"><font face="Calibri-Bold">?]</font></font><font face="Calibri-Bold"><font face="Calibri-Bold">4663</font></font></b><font face="Calibri-Bold"><font face="Calibri-Bold"> (</font></font><font face="Calibri-Bold"><font face="Calibri-Bold">to enter or for additional information)</font></font></b></span><br />\n	&nbsp\;</p>\n
LOCATION:
UID:e.1432.383164
SEQUENCE:3
DTSTAMP:20260423T082225Z
URL:http://business.etowahchamber.org/events/details/smoke-on-the-falls-04-12-2013-383164
END:VEVENT

END:VCALENDAR
