BEGIN:VCALENDAR
VERSION:2.0
PRODID:-//ChamberMaster//Event Calendar 2.0//EN
METHOD:PUBLISH
X-PUBLISHED-TTL:P3D
REFRESH-INTERVAL:P3D
CALSCALE:GREGORIAN
BEGIN:VEVENT
DTSTART:20200919T150000Z
DTEND:20200919T220000Z
X-MICROSOFT-CDO-ALLDAYEVENT:FALSE
SUMMARY:Smoke on the Falls 2020
DESCRIPTION:The City of Gadsden Parks and Recreation Department is excited to present the 11th ANNUAL SMOKE ON THE FALL BBQ COMPETITION AND FESTIVAL. This event features a Kansas City Barbecue Society Certified competition. Contestants register as Professional or Backyard teams to compete for prizes.
X-ALT-DESC;FMTTYPE=text/html:<span style="font-size:16px\;"><span style="font-family:arial\;">The City of Gadsden Parks and Recreation Department is excited to present the 11th ANNUAL SMOKE ON THE FALL BBQ COMPETITION AND FESTIVAL. This event features a Kansas City Barbecue Society Certified competition. Contestants register as Professional or Backyard teams to compete for prizes.</span></span>
LOCATION:Noccalula Falls Campground
UID:e.1432.402647
SEQUENCE:3
DTSTAMP:20260419T153904Z
URL:http://business.etowahchamber.org/events/details/smoke-on-the-falls-2020-04-11-2020-402647
END:VEVENT

END:VCALENDAR
