BEGIN:VCALENDAR
VERSION:2.0
PRODID:-//ChamberMaster//Event Calendar 2.0//EN
METHOD:PUBLISH
X-PUBLISHED-TTL:P3D
REFRESH-INTERVAL:P3D
CALSCALE:GREGORIAN
BEGIN:VEVENT
DTSTART:20130409T170000Z
DTEND:20130409T210000Z
X-MICROSOFT-CDO-ALLDAYEVENT:FALSE
SUMMARY:Snead State Career Expo
DESCRIPTION:Marshall County Career Expo/ Snead State Community College
X-ALT-DESC;FMTTYPE=text/html:Marshall County Career Expo/ Snead State Community College
LOCATION:Plunkett-Wallace Gym
UID:e.1432.383171
SEQUENCE:3
DTSTAMP:20260423T084809Z
URL:http://business.etowahchamber.org/events/details/snead-state-career-expo-04-09-2013-383171
END:VEVENT

END:VCALENDAR
