BEGIN:VCALENDAR
VERSION:2.0
PRODID:-//ChamberMaster//Event Calendar 2.0//EN
METHOD:PUBLISH
X-PUBLISHED-TTL:P3D
REFRESH-INTERVAL:P3D
CALSCALE:GREGORIAN
BEGIN:VEVENT
DTSTART:20120505T180000Z
DTEND:20120505T200000Z
X-MICROSOFT-CDO-ALLDAYEVENT:FALSE
SUMMARY:Southern Women's Tea - Women's Club
DESCRIPTION:The Third Annual Woman's Club of Gadsden Southern Tea will be held on Saturday\, May 5\, 2012 from 1 - 3 p.m. at the Clubhouse located at 862 Chestnut Street in Gadsden. \n\n\n\nTickets are $25.00 per person. \n\n\n\nAttire is hat and gloves. \n\n\n\nBring your daughters and granddaughters\, sisters and friends for a fun-filled event featuring food\, entertainment by members of the Etowah Youth Orchestra\, a fashion show with styles from Jireh's\, door prizes and more.  Professional photography will be offered by Ron Hayes Photography. \n\n\n\nFor tickets or more information\, call The Woman's Club at 256-547-2311 or Committee Chair Barbara Pavey at 256-547-6291.  Tickets may also be purchased from the following Woman's Club Members:  Amber Phillips at State Farm Insurance (located at 900 South 4th Street) at 256-543-8090 or Annette Burns at Freeman Motors (located at 1025 Meighgan Blvd) at 256-547-5797.
X-ALT-DESC;FMTTYPE=text/html:<span style="font-size:9.0pt\;">The Third Annual Woman&#39\;s Club of Gadsden Southern Tea will be held on Saturday\, May 5\, 2012 from 1 - 3 p.m. at the Clubhouse located at 862 Chestnut Street in Gadsden.&nbsp\;<br />\n<br />\nTickets are $25.00 per person.&nbsp\;<br />\n<br />\nAttire is hat and gloves.&nbsp\;<br />\n<br />\nBring your daughters and granddaughters\, sisters and friends for a fun-filled event featuring food\, entertainment by members of the Etowah Youth Orchestra\, a fashion show with styles from Jireh&rsquo\;s\, door prizes and more.&nbsp\; Professional photography will be offered by Ron Hayes Photography.&nbsp\;<br />\n<br />\nFor tickets or more information\, call The Woman&#39\;s Club at 256-547-2311 or Committee Chair Barbara Pavey at 256-547-6291.&nbsp\; Tickets may also be purchased from the following Woman&rsquo\;s Club Members:&nbsp\; Amber Phillips at State Farm Insurance (located at 900 South 4th Street) at 256-543-8090 or Annette Burns at Freeman Motors (located at 1025 Meighgan Blvd) at 256-547-5797.</span>
LOCATION:Women's Club Clubhouse 862 Chestnut Street in Gadsden
UID:e.1432.381445
SEQUENCE:3
DTSTAMP:20260422T180331Z
URL:http://business.etowahchamber.org/events/details/southern-women-s-tea-women-s-club-05-05-2012-381445
END:VEVENT

END:VCALENDAR
