BEGIN:VCALENDAR
VERSION:2.0
PRODID:-//ChamberMaster//Event Calendar 2.0//EN
METHOD:PUBLISH
X-PUBLISHED-TTL:P3D
REFRESH-INTERVAL:P3D
CALSCALE:GREGORIAN
BEGIN:VEVENT
DTSTART:20190525T140000Z
DTEND:20190525T220000Z
X-MICROSOFT-CDO-ALLDAYEVENT:FALSE
SUMMARY:Southside Arts & Crafts Event
DESCRIPTION:Various Local Arts and Crafts Vendors
X-ALT-DESC;FMTTYPE=text/html:<span style="font-size:16px\;"><span style="font-family:arial\;"><span style="color: rgb(29\, 33\, 41)\; white-space: pre-wrap\;">Various Local Arts and Crafts Vendors</span></span></span>
LOCATION:Parking Lot Adjacent to Southside City Hall on Highway 77
UID:e.1432.401038
SEQUENCE:3
DTSTAMP:20260422T072357Z
URL:http://business.etowahchamber.org/events/details/southside-arts-crafts-event-401038
END:VEVENT

END:VCALENDAR
