BEGIN:VCALENDAR
VERSION:2.0
PRODID:-//ChamberMaster//Event Calendar 2.0//EN
METHOD:PUBLISH
X-PUBLISHED-TTL:P3D
REFRESH-INTERVAL:P3D
CALSCALE:GREGORIAN
BEGIN:VEVENT
DTSTART:20140719T190000Z
DTEND:20140720T030000Z
X-MICROSOFT-CDO-ALLDAYEVENT:FALSE
SUMMARY:Southside City Fest
DESCRIPTION:Get ready for Southside City Fest 2014!\n\nJuly 19th from 2:00 p.m. until 10:00 p.m. on the grounds of Southside High School. \n\nLots of fun and exciting activities for the whole family\, including a children's area\, vendor marketplace\, and all day concerts! Entertainment for this year's event will be:\n\n"Stereo Revival"\n\n"The Brooke Danielle Band"\n\n"Them Dirty Roses"\n\nand Headliner "John Michael Montgomery"\n\nAdmission is FREE!
X-ALT-DESC;FMTTYPE=text/html:<span style="font: 11px/14.07px &quot\;lucida grande&quot\;\, tahoma\, verdana\, arial\, sans-serif\; text-align: left\; color: rgb(128\, 128\, 128)\; text-transform: none\; text-indent: 0px\; letter-spacing: normal\; word-spacing: 0px\; float: none\; display: inline !important\; white-space: normal\; font-size-adjust: none\; font-stretch: normal\; background-color: rgb(255\, 255\, 255)\; -webkit-text-stroke-width: 0px\;">Get ready for Southside City Fest 2014!<br />\nJuly 19th from 2:00 p.m. until 10:00 p.m. on the grounds of Southside High School.&nbsp\;<br />\nLots of </span><span class="text_exposed_show" style="font: 11px/14.07px &quot\;lucida grande&quot\;\, tahoma\, verdana\, arial\, sans-serif\; text-align: left\; color: rgb(128\, 128\, 128)\; text-transform: none\; text-indent: 0px\; letter-spacing: normal\; word-spacing: 0px\; display: inline\; white-space: normal\; font-size-adjust: none\; font-stretch: normal\; background-color: rgb(255\, 255\, 255)\; -webkit-text-stroke-width: 0px\;">fun and exciting activities for the whole family\, including a children&rsquo\;s area\, vendor marketplace\, and all day concerts! Entertainment for this year&#39\;s event will be:<br />\n&ldquo\;Stereo Revival&rdquo\;<br />\n&ldquo\;The Brooke Danielle Band&rdquo\;<br />\n&ldquo\;Them Dirty Roses&rdquo\;<br />\n<span style="font-size: 14px\;">and Headliner &ldquo\;John Michael Montgomery&rdquo\;</span><br />\nAdmission is FREE! </span>
LOCATION:Southside High School
UID:e.1432.384262
SEQUENCE:3
DTSTAMP:20260422T171441Z
URL:http://business.etowahchamber.org/events/details/southside-city-fest-07-19-2014-384262
END:VEVENT

END:VCALENDAR
