BEGIN:VCALENDAR
VERSION:2.0
PRODID:-//ChamberMaster//Event Calendar 2.0//EN
METHOD:PUBLISH
X-PUBLISHED-TTL:P3D
REFRESH-INTERVAL:P3D
CALSCALE:GREGORIAN
BEGIN:VEVENT
DTSTART:20120721T190000Z
DTEND:20120722T030000Z
X-MICROSOFT-CDO-ALLDAYEVENT:FALSE
SUMMARY:Southside City Fest
DESCRIPTION:Southside City Fest 2012 promises to be bigger and better than ever before! Entertainment for this year's event will be Southside's very own "Kate Falcon"\, local band "The Players"\, powerhouse southern rock band "Buck Wild"\, and up and coming artist "Rexton Lee"\, followed by one of country music's greatest\, "Aaron Tippin".\n\n\n\nSouthside City Fest will be held Saturday\, July 21st\, 2012 from 2:00 p.m. until 10:00 p.m. on the grounds of Southside High School. There will be a number of fun and exciting activities for the whole family including an antique car show\, children's area\, vendor marketplace\, prizes\, and all day concerts and entertainment. The events are free to the public excluding food vendors\, arts and crafts exhibitors\, and the children's amusement rides and activities.
X-ALT-DESC;FMTTYPE=text/html:Southside City Fest 2012 promises to be bigger and better than ever before! Entertainment for this year&#39\;s event will be Southside&#39\;s very own &quot\;Kate Falcon&quot\;\, local band &quot\;The Players&quot\;\, powerhouse southern rock band &quot\;Buck Wild&quot\;\, and up and coming artist &quot\;Rexton Lee&quot\;\, followed by one of country music&#39\;s greatest\, &quot\;Aaron Tippin&quot\;.<br />\n<br />\nSouthside City Fest will be held Saturday\, July 21st\, 2012 from 2:00 p.m. until 10:00 p.m. on the grounds of Southside High School. There will be a number of fun and exciting activities for the whole&nbsp\;family including an antique car show\, children&#39\;s area\, vendor marketplace\, prizes\, and all day concerts and entertainment. The events are free to the public excluding food vendors\, arts and crafts&nbsp\;exhibitors\, and the children&#39\;s amusement rides and activities.
LOCATION:Southside High School 2361 School Drive
UID:e.1432.381492
SEQUENCE:3
DTSTAMP:20260422T203902Z
URL:http://business.etowahchamber.org/events/details/southside-city-fest-07-21-2012-381492
END:VEVENT

END:VCALENDAR
